BEGIN:VCALENDAR
VERSION:2.0
PRODID:-//Alternatives to Violence Project New York - ECPv6.15.20//NONSGML v1.0//EN
CALSCALE:GREGORIAN
METHOD:PUBLISH
X-WR-CALNAME:Alternatives to Violence Project New York
X-ORIGINAL-URL:https://www.avpny.org
X-WR-CALDESC:Events for Alternatives to Violence Project New York
REFRESH-INTERVAL;VALUE=DURATION:PT1H
X-Robots-Tag:noindex
X-PUBLISHED-TTL:PT1H
BEGIN:VTIMEZONE
TZID:America/New_York
BEGIN:DAYLIGHT
TZOFFSETFROM:-0500
TZOFFSETTO:-0400
TZNAME:EDT
DTSTART:20250309T070000
END:DAYLIGHT
BEGIN:STANDARD
TZOFFSETFROM:-0400
TZOFFSETTO:-0500
TZNAME:EST
DTSTART:20251102T060000
END:STANDARD
BEGIN:DAYLIGHT
TZOFFSETFROM:-0500
TZOFFSETTO:-0400
TZNAME:EDT
DTSTART:20260308T070000
END:DAYLIGHT
BEGIN:STANDARD
TZOFFSETFROM:-0400
TZOFFSETTO:-0500
TZNAME:EST
DTSTART:20261101T060000
END:STANDARD
BEGIN:DAYLIGHT
TZOFFSETFROM:-0500
TZOFFSETTO:-0400
TZNAME:EDT
DTSTART:20270314T070000
END:DAYLIGHT
BEGIN:STANDARD
TZOFFSETFROM:-0400
TZOFFSETTO:-0500
TZNAME:EST
DTSTART:20271107T060000
END:STANDARD
BEGIN:DAYLIGHT
TZOFFSETFROM:-0500
TZOFFSETTO:-0400
TZNAME:EDT
DTSTART:20280312T070000
END:DAYLIGHT
BEGIN:STANDARD
TZOFFSETFROM:-0400
TZOFFSETTO:-0500
TZNAME:EST
DTSTART:20281105T060000
END:STANDARD
END:VTIMEZONE
BEGIN:VEVENT
DTSTART;TZID=America/New_York:20260910T180000
DTEND;TZID=America/New_York:20260910T200000
DTSTAMP:20260423T061226
CREATED:20260225T170541Z
LAST-MODIFIED:20260225T170902Z
UID:10000307-1789063200-1789070400@www.avpny.org
SUMMARY:Brooklyn Landing Strip\, weekly
DESCRIPTION:Landing Strip is an event to offer a welcoming hand to those AVP participants and facilitators who are going through the transition from prison back to society. \n\n\n\nClick here for flyer. \n\n\n\nLanding Strip es un evento para ofrecer una mano de bienvenida a los participantes y facilitadores de AVP que están pasando por la transición de la prisión a la sociedad. \n\n\n\nHaga clic aquí para ver el folleto.
URL:https://www.avpny.org/event/brooklyn-landing-strip-weekly/2026-09-10/
LOCATION:BK 5860\, 55 Hegeman Ave\, Brooklyn\, New York\, 11212\, United States
END:VEVENT
BEGIN:VEVENT
DTSTART;TZID=America/New_York:20260917T180000
DTEND;TZID=America/New_York:20260917T200000
DTSTAMP:20260423T061226
CREATED:20260225T170541Z
LAST-MODIFIED:20260225T170902Z
UID:10000308-1789668000-1789675200@www.avpny.org
SUMMARY:Brooklyn Landing Strip\, weekly
DESCRIPTION:Landing Strip is an event to offer a welcoming hand to those AVP participants and facilitators who are going through the transition from prison back to society. \n\n\n\nClick here for flyer. \n\n\n\nLanding Strip es un evento para ofrecer una mano de bienvenida a los participantes y facilitadores de AVP que están pasando por la transición de la prisión a la sociedad. \n\n\n\nHaga clic aquí para ver el folleto.
URL:https://www.avpny.org/event/brooklyn-landing-strip-weekly/2026-09-17/
LOCATION:BK 5860\, 55 Hegeman Ave\, Brooklyn\, New York\, 11212\, United States
END:VEVENT
BEGIN:VEVENT
DTSTART;TZID=America/New_York:20260924T180000
DTEND;TZID=America/New_York:20260924T200000
DTSTAMP:20260423T061226
CREATED:20260225T170541Z
LAST-MODIFIED:20260225T170902Z
UID:10000309-1790272800-1790280000@www.avpny.org
SUMMARY:Brooklyn Landing Strip\, weekly
DESCRIPTION:Landing Strip is an event to offer a welcoming hand to those AVP participants and facilitators who are going through the transition from prison back to society. \n\n\n\nClick here for flyer. \n\n\n\nLanding Strip es un evento para ofrecer una mano de bienvenida a los participantes y facilitadores de AVP que están pasando por la transición de la prisión a la sociedad. \n\n\n\nHaga clic aquí para ver el folleto.
URL:https://www.avpny.org/event/brooklyn-landing-strip-weekly/2026-09-24/
LOCATION:BK 5860\, 55 Hegeman Ave\, Brooklyn\, New York\, 11212\, United States
END:VEVENT
BEGIN:VEVENT
DTSTART;TZID=America/New_York:20261001T180000
DTEND;TZID=America/New_York:20261001T200000
DTSTAMP:20260423T061226
CREATED:20260225T170541Z
LAST-MODIFIED:20260225T170902Z
UID:10000310-1790877600-1790884800@www.avpny.org
SUMMARY:Brooklyn Landing Strip\, weekly
DESCRIPTION:Landing Strip is an event to offer a welcoming hand to those AVP participants and facilitators who are going through the transition from prison back to society. \n\n\n\nClick here for flyer. \n\n\n\nLanding Strip es un evento para ofrecer una mano de bienvenida a los participantes y facilitadores de AVP que están pasando por la transición de la prisión a la sociedad. \n\n\n\nHaga clic aquí para ver el folleto.
URL:https://www.avpny.org/event/brooklyn-landing-strip-weekly/2026-10-01/
LOCATION:BK 5860\, 55 Hegeman Ave\, Brooklyn\, New York\, 11212\, United States
END:VEVENT
BEGIN:VEVENT
DTSTART;TZID=America/New_York:20261008T180000
DTEND;TZID=America/New_York:20261008T200000
DTSTAMP:20260423T061226
CREATED:20260225T170541Z
LAST-MODIFIED:20260225T170902Z
UID:10000311-1791482400-1791489600@www.avpny.org
SUMMARY:Brooklyn Landing Strip\, weekly
DESCRIPTION:Landing Strip is an event to offer a welcoming hand to those AVP participants and facilitators who are going through the transition from prison back to society. \n\n\n\nClick here for flyer. \n\n\n\nLanding Strip es un evento para ofrecer una mano de bienvenida a los participantes y facilitadores de AVP que están pasando por la transición de la prisión a la sociedad. \n\n\n\nHaga clic aquí para ver el folleto.
URL:https://www.avpny.org/event/brooklyn-landing-strip-weekly/2026-10-08/
LOCATION:BK 5860\, 55 Hegeman Ave\, Brooklyn\, New York\, 11212\, United States
END:VEVENT
BEGIN:VEVENT
DTSTART;TZID=America/New_York:20261015T180000
DTEND;TZID=America/New_York:20261015T200000
DTSTAMP:20260423T061226
CREATED:20260225T170541Z
LAST-MODIFIED:20260225T170902Z
UID:10000312-1792087200-1792094400@www.avpny.org
SUMMARY:Brooklyn Landing Strip\, weekly
DESCRIPTION:Landing Strip is an event to offer a welcoming hand to those AVP participants and facilitators who are going through the transition from prison back to society. \n\n\n\nClick here for flyer. \n\n\n\nLanding Strip es un evento para ofrecer una mano de bienvenida a los participantes y facilitadores de AVP que están pasando por la transición de la prisión a la sociedad. \n\n\n\nHaga clic aquí para ver el folleto.
URL:https://www.avpny.org/event/brooklyn-landing-strip-weekly/2026-10-15/
LOCATION:BK 5860\, 55 Hegeman Ave\, Brooklyn\, New York\, 11212\, United States
END:VEVENT
BEGIN:VEVENT
DTSTART;TZID=America/New_York:20261022T180000
DTEND;TZID=America/New_York:20261022T200000
DTSTAMP:20260423T061226
CREATED:20260225T170541Z
LAST-MODIFIED:20260225T170902Z
UID:10000313-1792692000-1792699200@www.avpny.org
SUMMARY:Brooklyn Landing Strip\, weekly
DESCRIPTION:Landing Strip is an event to offer a welcoming hand to those AVP participants and facilitators who are going through the transition from prison back to society. \n\n\n\nClick here for flyer. \n\n\n\nLanding Strip es un evento para ofrecer una mano de bienvenida a los participantes y facilitadores de AVP que están pasando por la transición de la prisión a la sociedad. \n\n\n\nHaga clic aquí para ver el folleto.
URL:https://www.avpny.org/event/brooklyn-landing-strip-weekly/2026-10-22/
LOCATION:BK 5860\, 55 Hegeman Ave\, Brooklyn\, New York\, 11212\, United States
END:VEVENT
BEGIN:VEVENT
DTSTART;TZID=America/New_York:20261029T180000
DTEND;TZID=America/New_York:20261029T200000
DTSTAMP:20260423T061226
CREATED:20260225T170541Z
LAST-MODIFIED:20260225T170902Z
UID:10000314-1793296800-1793304000@www.avpny.org
SUMMARY:Brooklyn Landing Strip\, weekly
DESCRIPTION:Landing Strip is an event to offer a welcoming hand to those AVP participants and facilitators who are going through the transition from prison back to society. \n\n\n\nClick here for flyer. \n\n\n\nLanding Strip es un evento para ofrecer una mano de bienvenida a los participantes y facilitadores de AVP que están pasando por la transición de la prisión a la sociedad. \n\n\n\nHaga clic aquí para ver el folleto.
URL:https://www.avpny.org/event/brooklyn-landing-strip-weekly/2026-10-29/
LOCATION:BK 5860\, 55 Hegeman Ave\, Brooklyn\, New York\, 11212\, United States
END:VEVENT
BEGIN:VEVENT
DTSTART;TZID=America/New_York:20261105T180000
DTEND;TZID=America/New_York:20261105T200000
DTSTAMP:20260423T061226
CREATED:20260225T170541Z
LAST-MODIFIED:20260225T170902Z
UID:10000315-1793901600-1793908800@www.avpny.org
SUMMARY:Brooklyn Landing Strip\, weekly
DESCRIPTION:Landing Strip is an event to offer a welcoming hand to those AVP participants and facilitators who are going through the transition from prison back to society. \n\n\n\nClick here for flyer. \n\n\n\nLanding Strip es un evento para ofrecer una mano de bienvenida a los participantes y facilitadores de AVP que están pasando por la transición de la prisión a la sociedad. \n\n\n\nHaga clic aquí para ver el folleto.
URL:https://www.avpny.org/event/brooklyn-landing-strip-weekly/2026-11-05/
LOCATION:BK 5860\, 55 Hegeman Ave\, Brooklyn\, New York\, 11212\, United States
END:VEVENT
BEGIN:VEVENT
DTSTART;TZID=America/New_York:20261112T180000
DTEND;TZID=America/New_York:20261112T200000
DTSTAMP:20260423T061226
CREATED:20260225T170541Z
LAST-MODIFIED:20260225T170902Z
UID:10000316-1794506400-1794513600@www.avpny.org
SUMMARY:Brooklyn Landing Strip\, weekly
DESCRIPTION:Landing Strip is an event to offer a welcoming hand to those AVP participants and facilitators who are going through the transition from prison back to society. \n\n\n\nClick here for flyer. \n\n\n\nLanding Strip es un evento para ofrecer una mano de bienvenida a los participantes y facilitadores de AVP que están pasando por la transición de la prisión a la sociedad. \n\n\n\nHaga clic aquí para ver el folleto.
URL:https://www.avpny.org/event/brooklyn-landing-strip-weekly/2026-11-12/
LOCATION:BK 5860\, 55 Hegeman Ave\, Brooklyn\, New York\, 11212\, United States
END:VEVENT
BEGIN:VEVENT
DTSTART;TZID=America/New_York:20261119T180000
DTEND;TZID=America/New_York:20261119T200000
DTSTAMP:20260423T061226
CREATED:20260225T170541Z
LAST-MODIFIED:20260225T170902Z
UID:10000317-1795111200-1795118400@www.avpny.org
SUMMARY:Brooklyn Landing Strip\, weekly
DESCRIPTION:Landing Strip is an event to offer a welcoming hand to those AVP participants and facilitators who are going through the transition from prison back to society. \n\n\n\nClick here for flyer. \n\n\n\nLanding Strip es un evento para ofrecer una mano de bienvenida a los participantes y facilitadores de AVP que están pasando por la transición de la prisión a la sociedad. \n\n\n\nHaga clic aquí para ver el folleto.
URL:https://www.avpny.org/event/brooklyn-landing-strip-weekly/2026-11-19/
LOCATION:BK 5860\, 55 Hegeman Ave\, Brooklyn\, New York\, 11212\, United States
END:VEVENT
BEGIN:VEVENT
DTSTART;TZID=America/New_York:20261126T180000
DTEND;TZID=America/New_York:20261126T200000
DTSTAMP:20260423T061226
CREATED:20260225T170541Z
LAST-MODIFIED:20260225T170902Z
UID:10000318-1795716000-1795723200@www.avpny.org
SUMMARY:Brooklyn Landing Strip\, weekly
DESCRIPTION:Landing Strip is an event to offer a welcoming hand to those AVP participants and facilitators who are going through the transition from prison back to society. \n\n\n\nClick here for flyer. \n\n\n\nLanding Strip es un evento para ofrecer una mano de bienvenida a los participantes y facilitadores de AVP que están pasando por la transición de la prisión a la sociedad. \n\n\n\nHaga clic aquí para ver el folleto.
URL:https://www.avpny.org/event/brooklyn-landing-strip-weekly/2026-11-26/
LOCATION:BK 5860\, 55 Hegeman Ave\, Brooklyn\, New York\, 11212\, United States
END:VEVENT
BEGIN:VEVENT
DTSTART;TZID=America/New_York:20261203T180000
DTEND;TZID=America/New_York:20261203T200000
DTSTAMP:20260423T061226
CREATED:20260225T170541Z
LAST-MODIFIED:20260225T170902Z
UID:10000319-1796320800-1796328000@www.avpny.org
SUMMARY:Brooklyn Landing Strip\, weekly
DESCRIPTION:Landing Strip is an event to offer a welcoming hand to those AVP participants and facilitators who are going through the transition from prison back to society. \n\n\n\nClick here for flyer. \n\n\n\nLanding Strip es un evento para ofrecer una mano de bienvenida a los participantes y facilitadores de AVP que están pasando por la transición de la prisión a la sociedad. \n\n\n\nHaga clic aquí para ver el folleto.
URL:https://www.avpny.org/event/brooklyn-landing-strip-weekly/2026-12-03/
LOCATION:BK 5860\, 55 Hegeman Ave\, Brooklyn\, New York\, 11212\, United States
END:VEVENT
BEGIN:VEVENT
DTSTART;TZID=America/New_York:20261210T180000
DTEND;TZID=America/New_York:20261210T200000
DTSTAMP:20260423T061226
CREATED:20260225T170541Z
LAST-MODIFIED:20260225T170902Z
UID:10000320-1796925600-1796932800@www.avpny.org
SUMMARY:Brooklyn Landing Strip\, weekly
DESCRIPTION:Landing Strip is an event to offer a welcoming hand to those AVP participants and facilitators who are going through the transition from prison back to society. \n\n\n\nClick here for flyer. \n\n\n\nLanding Strip es un evento para ofrecer una mano de bienvenida a los participantes y facilitadores de AVP que están pasando por la transición de la prisión a la sociedad. \n\n\n\nHaga clic aquí para ver el folleto.
URL:https://www.avpny.org/event/brooklyn-landing-strip-weekly/2026-12-10/
LOCATION:BK 5860\, 55 Hegeman Ave\, Brooklyn\, New York\, 11212\, United States
END:VEVENT
BEGIN:VEVENT
DTSTART;TZID=America/New_York:20261217T180000
DTEND;TZID=America/New_York:20261217T200000
DTSTAMP:20260423T061226
CREATED:20260225T170541Z
LAST-MODIFIED:20260225T170902Z
UID:10000321-1797530400-1797537600@www.avpny.org
SUMMARY:Brooklyn Landing Strip\, weekly
DESCRIPTION:Landing Strip is an event to offer a welcoming hand to those AVP participants and facilitators who are going through the transition from prison back to society. \n\n\n\nClick here for flyer. \n\n\n\nLanding Strip es un evento para ofrecer una mano de bienvenida a los participantes y facilitadores de AVP que están pasando por la transición de la prisión a la sociedad. \n\n\n\nHaga clic aquí para ver el folleto.
URL:https://www.avpny.org/event/brooklyn-landing-strip-weekly/2026-12-17/
LOCATION:BK 5860\, 55 Hegeman Ave\, Brooklyn\, New York\, 11212\, United States
END:VEVENT
BEGIN:VEVENT
DTSTART;TZID=America/New_York:20261224T180000
DTEND;TZID=America/New_York:20261224T200000
DTSTAMP:20260423T061226
CREATED:20260225T170541Z
LAST-MODIFIED:20260225T170902Z
UID:10000322-1798135200-1798142400@www.avpny.org
SUMMARY:Brooklyn Landing Strip\, weekly
DESCRIPTION:Landing Strip is an event to offer a welcoming hand to those AVP participants and facilitators who are going through the transition from prison back to society. \n\n\n\nClick here for flyer. \n\n\n\nLanding Strip es un evento para ofrecer una mano de bienvenida a los participantes y facilitadores de AVP que están pasando por la transición de la prisión a la sociedad. \n\n\n\nHaga clic aquí para ver el folleto.
URL:https://www.avpny.org/event/brooklyn-landing-strip-weekly/2026-12-24/
LOCATION:BK 5860\, 55 Hegeman Ave\, Brooklyn\, New York\, 11212\, United States
END:VEVENT
BEGIN:VEVENT
DTSTART;TZID=America/New_York:20261231T180000
DTEND;TZID=America/New_York:20261231T200000
DTSTAMP:20260423T061226
CREATED:20260225T170541Z
LAST-MODIFIED:20260225T170902Z
UID:10000323-1798740000-1798747200@www.avpny.org
SUMMARY:Brooklyn Landing Strip\, weekly
DESCRIPTION:Landing Strip is an event to offer a welcoming hand to those AVP participants and facilitators who are going through the transition from prison back to society. \n\n\n\nClick here for flyer. \n\n\n\nLanding Strip es un evento para ofrecer una mano de bienvenida a los participantes y facilitadores de AVP que están pasando por la transición de la prisión a la sociedad. \n\n\n\nHaga clic aquí para ver el folleto.
URL:https://www.avpny.org/event/brooklyn-landing-strip-weekly/2026-12-31/
LOCATION:BK 5860\, 55 Hegeman Ave\, Brooklyn\, New York\, 11212\, United States
END:VEVENT
BEGIN:VEVENT
DTSTART;TZID=America/New_York:20270107T180000
DTEND;TZID=America/New_York:20270107T200000
DTSTAMP:20260423T061226
CREATED:20260225T170541Z
LAST-MODIFIED:20260225T170902Z
UID:10000324-1799344800-1799352000@www.avpny.org
SUMMARY:Brooklyn Landing Strip\, weekly
DESCRIPTION:Landing Strip is an event to offer a welcoming hand to those AVP participants and facilitators who are going through the transition from prison back to society. \n\n\n\nClick here for flyer. \n\n\n\nLanding Strip es un evento para ofrecer una mano de bienvenida a los participantes y facilitadores de AVP que están pasando por la transición de la prisión a la sociedad. \n\n\n\nHaga clic aquí para ver el folleto.
URL:https://www.avpny.org/event/brooklyn-landing-strip-weekly/2027-01-07/
LOCATION:BK 5860\, 55 Hegeman Ave\, Brooklyn\, New York\, 11212\, United States
END:VEVENT
BEGIN:VEVENT
DTSTART;TZID=America/New_York:20270114T180000
DTEND;TZID=America/New_York:20270114T200000
DTSTAMP:20260423T061226
CREATED:20260225T170541Z
LAST-MODIFIED:20260225T170902Z
UID:10000325-1799949600-1799956800@www.avpny.org
SUMMARY:Brooklyn Landing Strip\, weekly
DESCRIPTION:Landing Strip is an event to offer a welcoming hand to those AVP participants and facilitators who are going through the transition from prison back to society. \n\n\n\nClick here for flyer. \n\n\n\nLanding Strip es un evento para ofrecer una mano de bienvenida a los participantes y facilitadores de AVP que están pasando por la transición de la prisión a la sociedad. \n\n\n\nHaga clic aquí para ver el folleto.
URL:https://www.avpny.org/event/brooklyn-landing-strip-weekly/2027-01-14/
LOCATION:BK 5860\, 55 Hegeman Ave\, Brooklyn\, New York\, 11212\, United States
END:VEVENT
BEGIN:VEVENT
DTSTART;TZID=America/New_York:20270121T180000
DTEND;TZID=America/New_York:20270121T200000
DTSTAMP:20260423T061226
CREATED:20260225T170541Z
LAST-MODIFIED:20260225T170902Z
UID:10000326-1800554400-1800561600@www.avpny.org
SUMMARY:Brooklyn Landing Strip\, weekly
DESCRIPTION:Landing Strip is an event to offer a welcoming hand to those AVP participants and facilitators who are going through the transition from prison back to society. \n\n\n\nClick here for flyer. \n\n\n\nLanding Strip es un evento para ofrecer una mano de bienvenida a los participantes y facilitadores de AVP que están pasando por la transición de la prisión a la sociedad. \n\n\n\nHaga clic aquí para ver el folleto.
URL:https://www.avpny.org/event/brooklyn-landing-strip-weekly/2027-01-21/
LOCATION:BK 5860\, 55 Hegeman Ave\, Brooklyn\, New York\, 11212\, United States
END:VEVENT
BEGIN:VEVENT
DTSTART;TZID=America/New_York:20270128T180000
DTEND;TZID=America/New_York:20270128T200000
DTSTAMP:20260423T061226
CREATED:20260225T170541Z
LAST-MODIFIED:20260225T170902Z
UID:10000327-1801159200-1801166400@www.avpny.org
SUMMARY:Brooklyn Landing Strip\, weekly
DESCRIPTION:Landing Strip is an event to offer a welcoming hand to those AVP participants and facilitators who are going through the transition from prison back to society. \n\n\n\nClick here for flyer. \n\n\n\nLanding Strip es un evento para ofrecer una mano de bienvenida a los participantes y facilitadores de AVP que están pasando por la transición de la prisión a la sociedad. \n\n\n\nHaga clic aquí para ver el folleto.
URL:https://www.avpny.org/event/brooklyn-landing-strip-weekly/2027-01-28/
LOCATION:BK 5860\, 55 Hegeman Ave\, Brooklyn\, New York\, 11212\, United States
END:VEVENT
BEGIN:VEVENT
DTSTART;TZID=America/New_York:20270204T180000
DTEND;TZID=America/New_York:20270204T200000
DTSTAMP:20260423T061226
CREATED:20260225T170541Z
LAST-MODIFIED:20260225T170902Z
UID:10000328-1801764000-1801771200@www.avpny.org
SUMMARY:Brooklyn Landing Strip\, weekly
DESCRIPTION:Landing Strip is an event to offer a welcoming hand to those AVP participants and facilitators who are going through the transition from prison back to society. \n\n\n\nClick here for flyer. \n\n\n\nLanding Strip es un evento para ofrecer una mano de bienvenida a los participantes y facilitadores de AVP que están pasando por la transición de la prisión a la sociedad. \n\n\n\nHaga clic aquí para ver el folleto.
URL:https://www.avpny.org/event/brooklyn-landing-strip-weekly/2027-02-04/
LOCATION:BK 5860\, 55 Hegeman Ave\, Brooklyn\, New York\, 11212\, United States
END:VEVENT
BEGIN:VEVENT
DTSTART;TZID=America/New_York:20270211T180000
DTEND;TZID=America/New_York:20270211T200000
DTSTAMP:20260423T061226
CREATED:20260225T170541Z
LAST-MODIFIED:20260225T170902Z
UID:10000329-1802368800-1802376000@www.avpny.org
SUMMARY:Brooklyn Landing Strip\, weekly
DESCRIPTION:Landing Strip is an event to offer a welcoming hand to those AVP participants and facilitators who are going through the transition from prison back to society. \n\n\n\nClick here for flyer. \n\n\n\nLanding Strip es un evento para ofrecer una mano de bienvenida a los participantes y facilitadores de AVP que están pasando por la transición de la prisión a la sociedad. \n\n\n\nHaga clic aquí para ver el folleto.
URL:https://www.avpny.org/event/brooklyn-landing-strip-weekly/2027-02-11/
LOCATION:BK 5860\, 55 Hegeman Ave\, Brooklyn\, New York\, 11212\, United States
END:VEVENT
BEGIN:VEVENT
DTSTART;TZID=America/New_York:20270218T180000
DTEND;TZID=America/New_York:20270218T200000
DTSTAMP:20260423T061226
CREATED:20260225T170541Z
LAST-MODIFIED:20260225T170902Z
UID:10000330-1802973600-1802980800@www.avpny.org
SUMMARY:Brooklyn Landing Strip\, weekly
DESCRIPTION:Landing Strip is an event to offer a welcoming hand to those AVP participants and facilitators who are going through the transition from prison back to society. \n\n\n\nClick here for flyer. \n\n\n\nLanding Strip es un evento para ofrecer una mano de bienvenida a los participantes y facilitadores de AVP que están pasando por la transición de la prisión a la sociedad. \n\n\n\nHaga clic aquí para ver el folleto.
URL:https://www.avpny.org/event/brooklyn-landing-strip-weekly/2027-02-18/
LOCATION:BK 5860\, 55 Hegeman Ave\, Brooklyn\, New York\, 11212\, United States
END:VEVENT
BEGIN:VEVENT
DTSTART;TZID=America/New_York:20270225T180000
DTEND;TZID=America/New_York:20270225T200000
DTSTAMP:20260423T061226
CREATED:20260225T170541Z
LAST-MODIFIED:20260225T170902Z
UID:10000331-1803578400-1803585600@www.avpny.org
SUMMARY:Brooklyn Landing Strip\, weekly
DESCRIPTION:Landing Strip is an event to offer a welcoming hand to those AVP participants and facilitators who are going through the transition from prison back to society. \n\n\n\nClick here for flyer. \n\n\n\nLanding Strip es un evento para ofrecer una mano de bienvenida a los participantes y facilitadores de AVP que están pasando por la transición de la prisión a la sociedad. \n\n\n\nHaga clic aquí para ver el folleto.
URL:https://www.avpny.org/event/brooklyn-landing-strip-weekly/2027-02-25/
LOCATION:BK 5860\, 55 Hegeman Ave\, Brooklyn\, New York\, 11212\, United States
END:VEVENT
BEGIN:VEVENT
DTSTART;TZID=America/New_York:20270304T180000
DTEND;TZID=America/New_York:20270304T200000
DTSTAMP:20260423T061226
CREATED:20260225T170541Z
LAST-MODIFIED:20260225T170902Z
UID:10000332-1804183200-1804190400@www.avpny.org
SUMMARY:Brooklyn Landing Strip\, weekly
DESCRIPTION:Landing Strip is an event to offer a welcoming hand to those AVP participants and facilitators who are going through the transition from prison back to society. \n\n\n\nClick here for flyer. \n\n\n\nLanding Strip es un evento para ofrecer una mano de bienvenida a los participantes y facilitadores de AVP que están pasando por la transición de la prisión a la sociedad. \n\n\n\nHaga clic aquí para ver el folleto.
URL:https://www.avpny.org/event/brooklyn-landing-strip-weekly/2027-03-04/
LOCATION:BK 5860\, 55 Hegeman Ave\, Brooklyn\, New York\, 11212\, United States
END:VEVENT
BEGIN:VEVENT
DTSTART;TZID=America/New_York:20270311T180000
DTEND;TZID=America/New_York:20270311T200000
DTSTAMP:20260423T061226
CREATED:20260225T170541Z
LAST-MODIFIED:20260225T170902Z
UID:10000333-1804788000-1804795200@www.avpny.org
SUMMARY:Brooklyn Landing Strip\, weekly
DESCRIPTION:Landing Strip is an event to offer a welcoming hand to those AVP participants and facilitators who are going through the transition from prison back to society. \n\n\n\nClick here for flyer. \n\n\n\nLanding Strip es un evento para ofrecer una mano de bienvenida a los participantes y facilitadores de AVP que están pasando por la transición de la prisión a la sociedad. \n\n\n\nHaga clic aquí para ver el folleto.
URL:https://www.avpny.org/event/brooklyn-landing-strip-weekly/2027-03-11/
LOCATION:BK 5860\, 55 Hegeman Ave\, Brooklyn\, New York\, 11212\, United States
END:VEVENT
BEGIN:VEVENT
DTSTART;TZID=America/New_York:20270318T180000
DTEND;TZID=America/New_York:20270318T200000
DTSTAMP:20260423T061226
CREATED:20260225T170541Z
LAST-MODIFIED:20260225T170902Z
UID:10000334-1805392800-1805400000@www.avpny.org
SUMMARY:Brooklyn Landing Strip\, weekly
DESCRIPTION:Landing Strip is an event to offer a welcoming hand to those AVP participants and facilitators who are going through the transition from prison back to society. \n\n\n\nClick here for flyer. \n\n\n\nLanding Strip es un evento para ofrecer una mano de bienvenida a los participantes y facilitadores de AVP que están pasando por la transición de la prisión a la sociedad. \n\n\n\nHaga clic aquí para ver el folleto.
URL:https://www.avpny.org/event/brooklyn-landing-strip-weekly/2027-03-18/
LOCATION:BK 5860\, 55 Hegeman Ave\, Brooklyn\, New York\, 11212\, United States
END:VEVENT
BEGIN:VEVENT
DTSTART;TZID=America/New_York:20270325T180000
DTEND;TZID=America/New_York:20270325T200000
DTSTAMP:20260423T061226
CREATED:20260225T170541Z
LAST-MODIFIED:20260225T170902Z
UID:10000335-1805997600-1806004800@www.avpny.org
SUMMARY:Brooklyn Landing Strip\, weekly
DESCRIPTION:Landing Strip is an event to offer a welcoming hand to those AVP participants and facilitators who are going through the transition from prison back to society. \n\n\n\nClick here for flyer. \n\n\n\nLanding Strip es un evento para ofrecer una mano de bienvenida a los participantes y facilitadores de AVP que están pasando por la transición de la prisión a la sociedad. \n\n\n\nHaga clic aquí para ver el folleto.
URL:https://www.avpny.org/event/brooklyn-landing-strip-weekly/2027-03-25/
LOCATION:BK 5860\, 55 Hegeman Ave\, Brooklyn\, New York\, 11212\, United States
END:VEVENT
BEGIN:VEVENT
DTSTART;TZID=America/New_York:20270401T180000
DTEND;TZID=America/New_York:20270401T200000
DTSTAMP:20260423T061226
CREATED:20260225T170541Z
LAST-MODIFIED:20260225T170902Z
UID:10000336-1806602400-1806609600@www.avpny.org
SUMMARY:Brooklyn Landing Strip\, weekly
DESCRIPTION:Landing Strip is an event to offer a welcoming hand to those AVP participants and facilitators who are going through the transition from prison back to society. \n\n\n\nClick here for flyer. \n\n\n\nLanding Strip es un evento para ofrecer una mano de bienvenida a los participantes y facilitadores de AVP que están pasando por la transición de la prisión a la sociedad. \n\n\n\nHaga clic aquí para ver el folleto.
URL:https://www.avpny.org/event/brooklyn-landing-strip-weekly/2027-04-01/
LOCATION:BK 5860\, 55 Hegeman Ave\, Brooklyn\, New York\, 11212\, United States
END:VEVENT
END:VCALENDAR