BEGIN:VCALENDAR
VERSION:2.0
PRODID:-//Alternatives to Violence Project New York - ECPv6.15.20//NONSGML v1.0//EN
CALSCALE:GREGORIAN
METHOD:PUBLISH
X-WR-CALNAME:Alternatives to Violence Project New York
X-ORIGINAL-URL:https://www.avpny.org
X-WR-CALDESC:Events for Alternatives to Violence Project New York
REFRESH-INTERVAL;VALUE=DURATION:PT1H
X-Robots-Tag:noindex
X-PUBLISHED-TTL:PT1H
BEGIN:VTIMEZONE
TZID:America/New_York
BEGIN:DAYLIGHT
TZOFFSETFROM:-0500
TZOFFSETTO:-0400
TZNAME:EDT
DTSTART:20290311T070000
END:DAYLIGHT
BEGIN:STANDARD
TZOFFSETFROM:-0400
TZOFFSETTO:-0500
TZNAME:EST
DTSTART:20291104T060000
END:STANDARD
BEGIN:DAYLIGHT
TZOFFSETFROM:-0500
TZOFFSETTO:-0400
TZNAME:EDT
DTSTART:20300310T070000
END:DAYLIGHT
BEGIN:STANDARD
TZOFFSETFROM:-0400
TZOFFSETTO:-0500
TZNAME:EST
DTSTART:20301103T060000
END:STANDARD
BEGIN:DAYLIGHT
TZOFFSETFROM:-0500
TZOFFSETTO:-0400
TZNAME:EDT
DTSTART:20310309T070000
END:DAYLIGHT
BEGIN:STANDARD
TZOFFSETFROM:-0400
TZOFFSETTO:-0500
TZNAME:EST
DTSTART:20311102T060000
END:STANDARD
BEGIN:DAYLIGHT
TZOFFSETFROM:-0500
TZOFFSETTO:-0400
TZNAME:EDT
DTSTART:20320314T070000
END:DAYLIGHT
BEGIN:STANDARD
TZOFFSETFROM:-0400
TZOFFSETTO:-0500
TZNAME:EST
DTSTART:20321107T060000
END:STANDARD
END:VTIMEZONE
BEGIN:VEVENT
DTSTART;TZID=America/New_York:20300718T180000
DTEND;TZID=America/New_York:20300718T200000
DTSTAMP:20260424T143746
CREATED:20260225T170541Z
LAST-MODIFIED:20260225T170902Z
UID:10000508-1910628000-1910635200@www.avpny.org
SUMMARY:Brooklyn Landing Strip\, weekly
DESCRIPTION:Landing Strip is an event to offer a welcoming hand to those AVP participants and facilitators who are going through the transition from prison back to society. \n\n\n\nClick here for flyer. \n\n\n\nLanding Strip es un evento para ofrecer una mano de bienvenida a los participantes y facilitadores de AVP que están pasando por la transición de la prisión a la sociedad. \n\n\n\nHaga clic aquí para ver el folleto.
URL:https://www.avpny.org/event/brooklyn-landing-strip-weekly/2030-07-18/
LOCATION:BK 5860\, 55 Hegeman Ave\, Brooklyn\, New York\, 11212\, United States
END:VEVENT
BEGIN:VEVENT
DTSTART;TZID=America/New_York:20300725T180000
DTEND;TZID=America/New_York:20300725T200000
DTSTAMP:20260424T143746
CREATED:20260225T170541Z
LAST-MODIFIED:20260225T170902Z
UID:10000509-1911232800-1911240000@www.avpny.org
SUMMARY:Brooklyn Landing Strip\, weekly
DESCRIPTION:Landing Strip is an event to offer a welcoming hand to those AVP participants and facilitators who are going through the transition from prison back to society. \n\n\n\nClick here for flyer. \n\n\n\nLanding Strip es un evento para ofrecer una mano de bienvenida a los participantes y facilitadores de AVP que están pasando por la transición de la prisión a la sociedad. \n\n\n\nHaga clic aquí para ver el folleto.
URL:https://www.avpny.org/event/brooklyn-landing-strip-weekly/2030-07-25/
LOCATION:BK 5860\, 55 Hegeman Ave\, Brooklyn\, New York\, 11212\, United States
END:VEVENT
BEGIN:VEVENT
DTSTART;TZID=America/New_York:20300801T180000
DTEND;TZID=America/New_York:20300801T200000
DTSTAMP:20260424T143746
CREATED:20260225T170541Z
LAST-MODIFIED:20260225T170902Z
UID:10000510-1911837600-1911844800@www.avpny.org
SUMMARY:Brooklyn Landing Strip\, weekly
DESCRIPTION:Landing Strip is an event to offer a welcoming hand to those AVP participants and facilitators who are going through the transition from prison back to society. \n\n\n\nClick here for flyer. \n\n\n\nLanding Strip es un evento para ofrecer una mano de bienvenida a los participantes y facilitadores de AVP que están pasando por la transición de la prisión a la sociedad. \n\n\n\nHaga clic aquí para ver el folleto.
URL:https://www.avpny.org/event/brooklyn-landing-strip-weekly/2030-08-01/
LOCATION:BK 5860\, 55 Hegeman Ave\, Brooklyn\, New York\, 11212\, United States
END:VEVENT
BEGIN:VEVENT
DTSTART;TZID=America/New_York:20300808T180000
DTEND;TZID=America/New_York:20300808T200000
DTSTAMP:20260424T143746
CREATED:20260225T170541Z
LAST-MODIFIED:20260225T170902Z
UID:10000511-1912442400-1912449600@www.avpny.org
SUMMARY:Brooklyn Landing Strip\, weekly
DESCRIPTION:Landing Strip is an event to offer a welcoming hand to those AVP participants and facilitators who are going through the transition from prison back to society. \n\n\n\nClick here for flyer. \n\n\n\nLanding Strip es un evento para ofrecer una mano de bienvenida a los participantes y facilitadores de AVP que están pasando por la transición de la prisión a la sociedad. \n\n\n\nHaga clic aquí para ver el folleto.
URL:https://www.avpny.org/event/brooklyn-landing-strip-weekly/2030-08-08/
LOCATION:BK 5860\, 55 Hegeman Ave\, Brooklyn\, New York\, 11212\, United States
END:VEVENT
BEGIN:VEVENT
DTSTART;TZID=America/New_York:20300815T180000
DTEND;TZID=America/New_York:20300815T200000
DTSTAMP:20260424T143746
CREATED:20260225T170541Z
LAST-MODIFIED:20260225T170902Z
UID:10000512-1913047200-1913054400@www.avpny.org
SUMMARY:Brooklyn Landing Strip\, weekly
DESCRIPTION:Landing Strip is an event to offer a welcoming hand to those AVP participants and facilitators who are going through the transition from prison back to society. \n\n\n\nClick here for flyer. \n\n\n\nLanding Strip es un evento para ofrecer una mano de bienvenida a los participantes y facilitadores de AVP que están pasando por la transición de la prisión a la sociedad. \n\n\n\nHaga clic aquí para ver el folleto.
URL:https://www.avpny.org/event/brooklyn-landing-strip-weekly/2030-08-15/
LOCATION:BK 5860\, 55 Hegeman Ave\, Brooklyn\, New York\, 11212\, United States
END:VEVENT
BEGIN:VEVENT
DTSTART;TZID=America/New_York:20300822T180000
DTEND;TZID=America/New_York:20300822T200000
DTSTAMP:20260424T143746
CREATED:20260225T170541Z
LAST-MODIFIED:20260225T170902Z
UID:10000513-1913652000-1913659200@www.avpny.org
SUMMARY:Brooklyn Landing Strip\, weekly
DESCRIPTION:Landing Strip is an event to offer a welcoming hand to those AVP participants and facilitators who are going through the transition from prison back to society. \n\n\n\nClick here for flyer. \n\n\n\nLanding Strip es un evento para ofrecer una mano de bienvenida a los participantes y facilitadores de AVP que están pasando por la transición de la prisión a la sociedad. \n\n\n\nHaga clic aquí para ver el folleto.
URL:https://www.avpny.org/event/brooklyn-landing-strip-weekly/2030-08-22/
LOCATION:BK 5860\, 55 Hegeman Ave\, Brooklyn\, New York\, 11212\, United States
END:VEVENT
BEGIN:VEVENT
DTSTART;TZID=America/New_York:20300829T180000
DTEND;TZID=America/New_York:20300829T200000
DTSTAMP:20260424T143746
CREATED:20260225T170541Z
LAST-MODIFIED:20260225T170902Z
UID:10000514-1914256800-1914264000@www.avpny.org
SUMMARY:Brooklyn Landing Strip\, weekly
DESCRIPTION:Landing Strip is an event to offer a welcoming hand to those AVP participants and facilitators who are going through the transition from prison back to society. \n\n\n\nClick here for flyer. \n\n\n\nLanding Strip es un evento para ofrecer una mano de bienvenida a los participantes y facilitadores de AVP que están pasando por la transición de la prisión a la sociedad. \n\n\n\nHaga clic aquí para ver el folleto.
URL:https://www.avpny.org/event/brooklyn-landing-strip-weekly/2030-08-29/
LOCATION:BK 5860\, 55 Hegeman Ave\, Brooklyn\, New York\, 11212\, United States
END:VEVENT
BEGIN:VEVENT
DTSTART;TZID=America/New_York:20300905T180000
DTEND;TZID=America/New_York:20300905T200000
DTSTAMP:20260424T143746
CREATED:20260225T170541Z
LAST-MODIFIED:20260225T170902Z
UID:10000515-1914861600-1914868800@www.avpny.org
SUMMARY:Brooklyn Landing Strip\, weekly
DESCRIPTION:Landing Strip is an event to offer a welcoming hand to those AVP participants and facilitators who are going through the transition from prison back to society. \n\n\n\nClick here for flyer. \n\n\n\nLanding Strip es un evento para ofrecer una mano de bienvenida a los participantes y facilitadores de AVP que están pasando por la transición de la prisión a la sociedad. \n\n\n\nHaga clic aquí para ver el folleto.
URL:https://www.avpny.org/event/brooklyn-landing-strip-weekly/2030-09-05/
LOCATION:BK 5860\, 55 Hegeman Ave\, Brooklyn\, New York\, 11212\, United States
END:VEVENT
BEGIN:VEVENT
DTSTART;TZID=America/New_York:20300912T180000
DTEND;TZID=America/New_York:20300912T200000
DTSTAMP:20260424T143746
CREATED:20260225T170541Z
LAST-MODIFIED:20260225T170902Z
UID:10000516-1915466400-1915473600@www.avpny.org
SUMMARY:Brooklyn Landing Strip\, weekly
DESCRIPTION:Landing Strip is an event to offer a welcoming hand to those AVP participants and facilitators who are going through the transition from prison back to society. \n\n\n\nClick here for flyer. \n\n\n\nLanding Strip es un evento para ofrecer una mano de bienvenida a los participantes y facilitadores de AVP que están pasando por la transición de la prisión a la sociedad. \n\n\n\nHaga clic aquí para ver el folleto.
URL:https://www.avpny.org/event/brooklyn-landing-strip-weekly/2030-09-12/
LOCATION:BK 5860\, 55 Hegeman Ave\, Brooklyn\, New York\, 11212\, United States
END:VEVENT
BEGIN:VEVENT
DTSTART;TZID=America/New_York:20300919T180000
DTEND;TZID=America/New_York:20300919T200000
DTSTAMP:20260424T143746
CREATED:20260225T170541Z
LAST-MODIFIED:20260225T170902Z
UID:10000517-1916071200-1916078400@www.avpny.org
SUMMARY:Brooklyn Landing Strip\, weekly
DESCRIPTION:Landing Strip is an event to offer a welcoming hand to those AVP participants and facilitators who are going through the transition from prison back to society. \n\n\n\nClick here for flyer. \n\n\n\nLanding Strip es un evento para ofrecer una mano de bienvenida a los participantes y facilitadores de AVP que están pasando por la transición de la prisión a la sociedad. \n\n\n\nHaga clic aquí para ver el folleto.
URL:https://www.avpny.org/event/brooklyn-landing-strip-weekly/2030-09-19/
LOCATION:BK 5860\, 55 Hegeman Ave\, Brooklyn\, New York\, 11212\, United States
END:VEVENT
BEGIN:VEVENT
DTSTART;TZID=America/New_York:20300926T180000
DTEND;TZID=America/New_York:20300926T200000
DTSTAMP:20260424T143746
CREATED:20260225T170541Z
LAST-MODIFIED:20260225T170902Z
UID:10000518-1916676000-1916683200@www.avpny.org
SUMMARY:Brooklyn Landing Strip\, weekly
DESCRIPTION:Landing Strip is an event to offer a welcoming hand to those AVP participants and facilitators who are going through the transition from prison back to society. \n\n\n\nClick here for flyer. \n\n\n\nLanding Strip es un evento para ofrecer una mano de bienvenida a los participantes y facilitadores de AVP que están pasando por la transición de la prisión a la sociedad. \n\n\n\nHaga clic aquí para ver el folleto.
URL:https://www.avpny.org/event/brooklyn-landing-strip-weekly/2030-09-26/
LOCATION:BK 5860\, 55 Hegeman Ave\, Brooklyn\, New York\, 11212\, United States
END:VEVENT
BEGIN:VEVENT
DTSTART;TZID=America/New_York:20301003T180000
DTEND;TZID=America/New_York:20301003T200000
DTSTAMP:20260424T143746
CREATED:20260225T170541Z
LAST-MODIFIED:20260225T170902Z
UID:10000519-1917280800-1917288000@www.avpny.org
SUMMARY:Brooklyn Landing Strip\, weekly
DESCRIPTION:Landing Strip is an event to offer a welcoming hand to those AVP participants and facilitators who are going through the transition from prison back to society. \n\n\n\nClick here for flyer. \n\n\n\nLanding Strip es un evento para ofrecer una mano de bienvenida a los participantes y facilitadores de AVP que están pasando por la transición de la prisión a la sociedad. \n\n\n\nHaga clic aquí para ver el folleto.
URL:https://www.avpny.org/event/brooklyn-landing-strip-weekly/2030-10-03/
LOCATION:BK 5860\, 55 Hegeman Ave\, Brooklyn\, New York\, 11212\, United States
END:VEVENT
BEGIN:VEVENT
DTSTART;TZID=America/New_York:20301010T180000
DTEND;TZID=America/New_York:20301010T200000
DTSTAMP:20260424T143746
CREATED:20260225T170541Z
LAST-MODIFIED:20260225T170902Z
UID:10000520-1917885600-1917892800@www.avpny.org
SUMMARY:Brooklyn Landing Strip\, weekly
DESCRIPTION:Landing Strip is an event to offer a welcoming hand to those AVP participants and facilitators who are going through the transition from prison back to society. \n\n\n\nClick here for flyer. \n\n\n\nLanding Strip es un evento para ofrecer una mano de bienvenida a los participantes y facilitadores de AVP que están pasando por la transición de la prisión a la sociedad. \n\n\n\nHaga clic aquí para ver el folleto.
URL:https://www.avpny.org/event/brooklyn-landing-strip-weekly/2030-10-10/
LOCATION:BK 5860\, 55 Hegeman Ave\, Brooklyn\, New York\, 11212\, United States
END:VEVENT
BEGIN:VEVENT
DTSTART;TZID=America/New_York:20301017T180000
DTEND;TZID=America/New_York:20301017T200000
DTSTAMP:20260424T143746
CREATED:20260225T170541Z
LAST-MODIFIED:20260225T170902Z
UID:10000521-1918490400-1918497600@www.avpny.org
SUMMARY:Brooklyn Landing Strip\, weekly
DESCRIPTION:Landing Strip is an event to offer a welcoming hand to those AVP participants and facilitators who are going through the transition from prison back to society. \n\n\n\nClick here for flyer. \n\n\n\nLanding Strip es un evento para ofrecer una mano de bienvenida a los participantes y facilitadores de AVP que están pasando por la transición de la prisión a la sociedad. \n\n\n\nHaga clic aquí para ver el folleto.
URL:https://www.avpny.org/event/brooklyn-landing-strip-weekly/2030-10-17/
LOCATION:BK 5860\, 55 Hegeman Ave\, Brooklyn\, New York\, 11212\, United States
END:VEVENT
BEGIN:VEVENT
DTSTART;TZID=America/New_York:20301024T180000
DTEND;TZID=America/New_York:20301024T200000
DTSTAMP:20260424T143746
CREATED:20260225T170541Z
LAST-MODIFIED:20260225T170902Z
UID:10000522-1919095200-1919102400@www.avpny.org
SUMMARY:Brooklyn Landing Strip\, weekly
DESCRIPTION:Landing Strip is an event to offer a welcoming hand to those AVP participants and facilitators who are going through the transition from prison back to society. \n\n\n\nClick here for flyer. \n\n\n\nLanding Strip es un evento para ofrecer una mano de bienvenida a los participantes y facilitadores de AVP que están pasando por la transición de la prisión a la sociedad. \n\n\n\nHaga clic aquí para ver el folleto.
URL:https://www.avpny.org/event/brooklyn-landing-strip-weekly/2030-10-24/
LOCATION:BK 5860\, 55 Hegeman Ave\, Brooklyn\, New York\, 11212\, United States
END:VEVENT
BEGIN:VEVENT
DTSTART;TZID=America/New_York:20301031T180000
DTEND;TZID=America/New_York:20301031T200000
DTSTAMP:20260424T143746
CREATED:20260225T170541Z
LAST-MODIFIED:20260225T170902Z
UID:10000523-1919700000-1919707200@www.avpny.org
SUMMARY:Brooklyn Landing Strip\, weekly
DESCRIPTION:Landing Strip is an event to offer a welcoming hand to those AVP participants and facilitators who are going through the transition from prison back to society. \n\n\n\nClick here for flyer. \n\n\n\nLanding Strip es un evento para ofrecer una mano de bienvenida a los participantes y facilitadores de AVP que están pasando por la transición de la prisión a la sociedad. \n\n\n\nHaga clic aquí para ver el folleto.
URL:https://www.avpny.org/event/brooklyn-landing-strip-weekly/2030-10-31/
LOCATION:BK 5860\, 55 Hegeman Ave\, Brooklyn\, New York\, 11212\, United States
END:VEVENT
BEGIN:VEVENT
DTSTART;TZID=America/New_York:20301107T180000
DTEND;TZID=America/New_York:20301107T200000
DTSTAMP:20260424T143746
CREATED:20260225T170541Z
LAST-MODIFIED:20260225T170902Z
UID:10000524-1920304800-1920312000@www.avpny.org
SUMMARY:Brooklyn Landing Strip\, weekly
DESCRIPTION:Landing Strip is an event to offer a welcoming hand to those AVP participants and facilitators who are going through the transition from prison back to society. \n\n\n\nClick here for flyer. \n\n\n\nLanding Strip es un evento para ofrecer una mano de bienvenida a los participantes y facilitadores de AVP que están pasando por la transición de la prisión a la sociedad. \n\n\n\nHaga clic aquí para ver el folleto.
URL:https://www.avpny.org/event/brooklyn-landing-strip-weekly/2030-11-07/
LOCATION:BK 5860\, 55 Hegeman Ave\, Brooklyn\, New York\, 11212\, United States
END:VEVENT
BEGIN:VEVENT
DTSTART;TZID=America/New_York:20301114T180000
DTEND;TZID=America/New_York:20301114T200000
DTSTAMP:20260424T143746
CREATED:20260225T170541Z
LAST-MODIFIED:20260225T170902Z
UID:10000525-1920909600-1920916800@www.avpny.org
SUMMARY:Brooklyn Landing Strip\, weekly
DESCRIPTION:Landing Strip is an event to offer a welcoming hand to those AVP participants and facilitators who are going through the transition from prison back to society. \n\n\n\nClick here for flyer. \n\n\n\nLanding Strip es un evento para ofrecer una mano de bienvenida a los participantes y facilitadores de AVP que están pasando por la transición de la prisión a la sociedad. \n\n\n\nHaga clic aquí para ver el folleto.
URL:https://www.avpny.org/event/brooklyn-landing-strip-weekly/2030-11-14/
LOCATION:BK 5860\, 55 Hegeman Ave\, Brooklyn\, New York\, 11212\, United States
END:VEVENT
BEGIN:VEVENT
DTSTART;TZID=America/New_York:20301121T180000
DTEND;TZID=America/New_York:20301121T200000
DTSTAMP:20260424T143746
CREATED:20260225T170541Z
LAST-MODIFIED:20260225T170902Z
UID:10000526-1921514400-1921521600@www.avpny.org
SUMMARY:Brooklyn Landing Strip\, weekly
DESCRIPTION:Landing Strip is an event to offer a welcoming hand to those AVP participants and facilitators who are going through the transition from prison back to society. \n\n\n\nClick here for flyer. \n\n\n\nLanding Strip es un evento para ofrecer una mano de bienvenida a los participantes y facilitadores de AVP que están pasando por la transición de la prisión a la sociedad. \n\n\n\nHaga clic aquí para ver el folleto.
URL:https://www.avpny.org/event/brooklyn-landing-strip-weekly/2030-11-21/
LOCATION:BK 5860\, 55 Hegeman Ave\, Brooklyn\, New York\, 11212\, United States
END:VEVENT
BEGIN:VEVENT
DTSTART;TZID=America/New_York:20301128T180000
DTEND;TZID=America/New_York:20301128T200000
DTSTAMP:20260424T143746
CREATED:20260225T170541Z
LAST-MODIFIED:20260225T170902Z
UID:10000527-1922119200-1922126400@www.avpny.org
SUMMARY:Brooklyn Landing Strip\, weekly
DESCRIPTION:Landing Strip is an event to offer a welcoming hand to those AVP participants and facilitators who are going through the transition from prison back to society. \n\n\n\nClick here for flyer. \n\n\n\nLanding Strip es un evento para ofrecer una mano de bienvenida a los participantes y facilitadores de AVP que están pasando por la transición de la prisión a la sociedad. \n\n\n\nHaga clic aquí para ver el folleto.
URL:https://www.avpny.org/event/brooklyn-landing-strip-weekly/2030-11-28/
LOCATION:BK 5860\, 55 Hegeman Ave\, Brooklyn\, New York\, 11212\, United States
END:VEVENT
BEGIN:VEVENT
DTSTART;TZID=America/New_York:20301205T180000
DTEND;TZID=America/New_York:20301205T200000
DTSTAMP:20260424T143746
CREATED:20260225T170541Z
LAST-MODIFIED:20260225T170902Z
UID:10000528-1922724000-1922731200@www.avpny.org
SUMMARY:Brooklyn Landing Strip\, weekly
DESCRIPTION:Landing Strip is an event to offer a welcoming hand to those AVP participants and facilitators who are going through the transition from prison back to society. \n\n\n\nClick here for flyer. \n\n\n\nLanding Strip es un evento para ofrecer una mano de bienvenida a los participantes y facilitadores de AVP que están pasando por la transición de la prisión a la sociedad. \n\n\n\nHaga clic aquí para ver el folleto.
URL:https://www.avpny.org/event/brooklyn-landing-strip-weekly/2030-12-05/
LOCATION:BK 5860\, 55 Hegeman Ave\, Brooklyn\, New York\, 11212\, United States
END:VEVENT
BEGIN:VEVENT
DTSTART;TZID=America/New_York:20301212T180000
DTEND;TZID=America/New_York:20301212T200000
DTSTAMP:20260424T143746
CREATED:20260225T170541Z
LAST-MODIFIED:20260225T170902Z
UID:10000529-1923328800-1923336000@www.avpny.org
SUMMARY:Brooklyn Landing Strip\, weekly
DESCRIPTION:Landing Strip is an event to offer a welcoming hand to those AVP participants and facilitators who are going through the transition from prison back to society. \n\n\n\nClick here for flyer. \n\n\n\nLanding Strip es un evento para ofrecer una mano de bienvenida a los participantes y facilitadores de AVP que están pasando por la transición de la prisión a la sociedad. \n\n\n\nHaga clic aquí para ver el folleto.
URL:https://www.avpny.org/event/brooklyn-landing-strip-weekly/2030-12-12/
LOCATION:BK 5860\, 55 Hegeman Ave\, Brooklyn\, New York\, 11212\, United States
END:VEVENT
BEGIN:VEVENT
DTSTART;TZID=America/New_York:20301219T180000
DTEND;TZID=America/New_York:20301219T200000
DTSTAMP:20260424T143746
CREATED:20260225T170541Z
LAST-MODIFIED:20260225T170902Z
UID:10000530-1923933600-1923940800@www.avpny.org
SUMMARY:Brooklyn Landing Strip\, weekly
DESCRIPTION:Landing Strip is an event to offer a welcoming hand to those AVP participants and facilitators who are going through the transition from prison back to society. \n\n\n\nClick here for flyer. \n\n\n\nLanding Strip es un evento para ofrecer una mano de bienvenida a los participantes y facilitadores de AVP que están pasando por la transición de la prisión a la sociedad. \n\n\n\nHaga clic aquí para ver el folleto.
URL:https://www.avpny.org/event/brooklyn-landing-strip-weekly/2030-12-19/
LOCATION:BK 5860\, 55 Hegeman Ave\, Brooklyn\, New York\, 11212\, United States
END:VEVENT
BEGIN:VEVENT
DTSTART;TZID=America/New_York:20301226T180000
DTEND;TZID=America/New_York:20301226T200000
DTSTAMP:20260424T143746
CREATED:20260225T170541Z
LAST-MODIFIED:20260225T170902Z
UID:10000531-1924538400-1924545600@www.avpny.org
SUMMARY:Brooklyn Landing Strip\, weekly
DESCRIPTION:Landing Strip is an event to offer a welcoming hand to those AVP participants and facilitators who are going through the transition from prison back to society. \n\n\n\nClick here for flyer. \n\n\n\nLanding Strip es un evento para ofrecer una mano de bienvenida a los participantes y facilitadores de AVP que están pasando por la transición de la prisión a la sociedad. \n\n\n\nHaga clic aquí para ver el folleto.
URL:https://www.avpny.org/event/brooklyn-landing-strip-weekly/2030-12-26/
LOCATION:BK 5860\, 55 Hegeman Ave\, Brooklyn\, New York\, 11212\, United States
END:VEVENT
BEGIN:VEVENT
DTSTART;TZID=America/New_York:20310102T180000
DTEND;TZID=America/New_York:20310102T200000
DTSTAMP:20260424T143746
CREATED:20260225T170541Z
LAST-MODIFIED:20260225T170902Z
UID:10000532-1925143200-1925150400@www.avpny.org
SUMMARY:Brooklyn Landing Strip\, weekly
DESCRIPTION:Landing Strip is an event to offer a welcoming hand to those AVP participants and facilitators who are going through the transition from prison back to society. \n\n\n\nClick here for flyer. \n\n\n\nLanding Strip es un evento para ofrecer una mano de bienvenida a los participantes y facilitadores de AVP que están pasando por la transición de la prisión a la sociedad. \n\n\n\nHaga clic aquí para ver el folleto.
URL:https://www.avpny.org/event/brooklyn-landing-strip-weekly/2031-01-02/
LOCATION:BK 5860\, 55 Hegeman Ave\, Brooklyn\, New York\, 11212\, United States
END:VEVENT
BEGIN:VEVENT
DTSTART;TZID=America/New_York:20310109T180000
DTEND;TZID=America/New_York:20310109T200000
DTSTAMP:20260424T143746
CREATED:20260225T170541Z
LAST-MODIFIED:20260225T170902Z
UID:10000533-1925748000-1925755200@www.avpny.org
SUMMARY:Brooklyn Landing Strip\, weekly
DESCRIPTION:Landing Strip is an event to offer a welcoming hand to those AVP participants and facilitators who are going through the transition from prison back to society. \n\n\n\nClick here for flyer. \n\n\n\nLanding Strip es un evento para ofrecer una mano de bienvenida a los participantes y facilitadores de AVP que están pasando por la transición de la prisión a la sociedad. \n\n\n\nHaga clic aquí para ver el folleto.
URL:https://www.avpny.org/event/brooklyn-landing-strip-weekly/2031-01-09/
LOCATION:BK 5860\, 55 Hegeman Ave\, Brooklyn\, New York\, 11212\, United States
END:VEVENT
BEGIN:VEVENT
DTSTART;TZID=America/New_York:20310116T180000
DTEND;TZID=America/New_York:20310116T200000
DTSTAMP:20260424T143746
CREATED:20260225T170541Z
LAST-MODIFIED:20260225T170902Z
UID:10000534-1926352800-1926360000@www.avpny.org
SUMMARY:Brooklyn Landing Strip\, weekly
DESCRIPTION:Landing Strip is an event to offer a welcoming hand to those AVP participants and facilitators who are going through the transition from prison back to society. \n\n\n\nClick here for flyer. \n\n\n\nLanding Strip es un evento para ofrecer una mano de bienvenida a los participantes y facilitadores de AVP que están pasando por la transición de la prisión a la sociedad. \n\n\n\nHaga clic aquí para ver el folleto.
URL:https://www.avpny.org/event/brooklyn-landing-strip-weekly/2031-01-16/
LOCATION:BK 5860\, 55 Hegeman Ave\, Brooklyn\, New York\, 11212\, United States
END:VEVENT
BEGIN:VEVENT
DTSTART;TZID=America/New_York:20310123T180000
DTEND;TZID=America/New_York:20310123T200000
DTSTAMP:20260424T143746
CREATED:20260225T170541Z
LAST-MODIFIED:20260225T170902Z
UID:10000535-1926957600-1926964800@www.avpny.org
SUMMARY:Brooklyn Landing Strip\, weekly
DESCRIPTION:Landing Strip is an event to offer a welcoming hand to those AVP participants and facilitators who are going through the transition from prison back to society. \n\n\n\nClick here for flyer. \n\n\n\nLanding Strip es un evento para ofrecer una mano de bienvenida a los participantes y facilitadores de AVP que están pasando por la transición de la prisión a la sociedad. \n\n\n\nHaga clic aquí para ver el folleto.
URL:https://www.avpny.org/event/brooklyn-landing-strip-weekly/2031-01-23/
LOCATION:BK 5860\, 55 Hegeman Ave\, Brooklyn\, New York\, 11212\, United States
END:VEVENT
BEGIN:VEVENT
DTSTART;TZID=America/New_York:20310130T180000
DTEND;TZID=America/New_York:20310130T200000
DTSTAMP:20260424T143746
CREATED:20260225T170541Z
LAST-MODIFIED:20260225T170902Z
UID:10000536-1927562400-1927569600@www.avpny.org
SUMMARY:Brooklyn Landing Strip\, weekly
DESCRIPTION:Landing Strip is an event to offer a welcoming hand to those AVP participants and facilitators who are going through the transition from prison back to society. \n\n\n\nClick here for flyer. \n\n\n\nLanding Strip es un evento para ofrecer una mano de bienvenida a los participantes y facilitadores de AVP que están pasando por la transición de la prisión a la sociedad. \n\n\n\nHaga clic aquí para ver el folleto.
URL:https://www.avpny.org/event/brooklyn-landing-strip-weekly/2031-01-30/
LOCATION:BK 5860\, 55 Hegeman Ave\, Brooklyn\, New York\, 11212\, United States
END:VEVENT
BEGIN:VEVENT
DTSTART;TZID=America/New_York:20310206T180000
DTEND;TZID=America/New_York:20310206T200000
DTSTAMP:20260424T143746
CREATED:20260225T170541Z
LAST-MODIFIED:20260225T170902Z
UID:10000537-1928167200-1928174400@www.avpny.org
SUMMARY:Brooklyn Landing Strip\, weekly
DESCRIPTION:Landing Strip is an event to offer a welcoming hand to those AVP participants and facilitators who are going through the transition from prison back to society. \n\n\n\nClick here for flyer. \n\n\n\nLanding Strip es un evento para ofrecer una mano de bienvenida a los participantes y facilitadores de AVP que están pasando por la transición de la prisión a la sociedad. \n\n\n\nHaga clic aquí para ver el folleto.
URL:https://www.avpny.org/event/brooklyn-landing-strip-weekly/2031-02-06/
LOCATION:BK 5860\, 55 Hegeman Ave\, Brooklyn\, New York\, 11212\, United States
END:VEVENT
END:VCALENDAR