BEGIN:VCALENDAR
VERSION:2.0
PRODID:-//Alternatives to Violence Project New York - ECPv6.15.20//NONSGML v1.0//EN
CALSCALE:GREGORIAN
METHOD:PUBLISH
X-ORIGINAL-URL:https://www.avpny.org
X-WR-CALDESC:Events for Alternatives to Violence Project New York
REFRESH-INTERVAL;VALUE=DURATION:PT1H
X-Robots-Tag:noindex
X-PUBLISHED-TTL:PT1H
BEGIN:VTIMEZONE
TZID:America/New_York
BEGIN:DAYLIGHT
TZOFFSETFROM:-0500
TZOFFSETTO:-0400
TZNAME:EDT
DTSTART:20280312T070000
END:DAYLIGHT
BEGIN:STANDARD
TZOFFSETFROM:-0400
TZOFFSETTO:-0500
TZNAME:EST
DTSTART:20281105T060000
END:STANDARD
BEGIN:DAYLIGHT
TZOFFSETFROM:-0500
TZOFFSETTO:-0400
TZNAME:EDT
DTSTART:20290311T070000
END:DAYLIGHT
BEGIN:STANDARD
TZOFFSETFROM:-0400
TZOFFSETTO:-0500
TZNAME:EST
DTSTART:20291104T060000
END:STANDARD
BEGIN:DAYLIGHT
TZOFFSETFROM:-0500
TZOFFSETTO:-0400
TZNAME:EDT
DTSTART:20300310T070000
END:DAYLIGHT
BEGIN:STANDARD
TZOFFSETFROM:-0400
TZOFFSETTO:-0500
TZNAME:EST
DTSTART:20301103T060000
END:STANDARD
END:VTIMEZONE
BEGIN:VEVENT
DTSTART;TZID=America/New_York:20290315T180000
DTEND;TZID=America/New_York:20290315T200000
DTSTAMP:20260424T035029
CREATED:20260225T170541Z
LAST-MODIFIED:20260225T170902Z
UID:10000438-1868292000-1868299200@www.avpny.org
SUMMARY:Brooklyn Landing Strip\, weekly
DESCRIPTION:Landing Strip is an event to offer a welcoming hand to those AVP participants and facilitators who are going through the transition from prison back to society. \n\n\n\nClick here for flyer. \n\n\n\nLanding Strip es un evento para ofrecer una mano de bienvenida a los participantes y facilitadores de AVP que están pasando por la transición de la prisión a la sociedad. \n\n\n\nHaga clic aquí para ver el folleto.
URL:https://www.avpny.org/event/brooklyn-landing-strip-weekly/2029-03-15/
LOCATION:BK 5860\, 55 Hegeman Ave\, Brooklyn\, New York\, 11212\, United States
END:VEVENT
BEGIN:VEVENT
DTSTART;TZID=America/New_York:20290322T180000
DTEND;TZID=America/New_York:20290322T200000
DTSTAMP:20260424T035029
CREATED:20260225T170541Z
LAST-MODIFIED:20260225T170902Z
UID:10000439-1868896800-1868904000@www.avpny.org
SUMMARY:Brooklyn Landing Strip\, weekly
DESCRIPTION:Landing Strip is an event to offer a welcoming hand to those AVP participants and facilitators who are going through the transition from prison back to society. \n\n\n\nClick here for flyer. \n\n\n\nLanding Strip es un evento para ofrecer una mano de bienvenida a los participantes y facilitadores de AVP que están pasando por la transición de la prisión a la sociedad. \n\n\n\nHaga clic aquí para ver el folleto.
URL:https://www.avpny.org/event/brooklyn-landing-strip-weekly/2029-03-22/
LOCATION:BK 5860\, 55 Hegeman Ave\, Brooklyn\, New York\, 11212\, United States
END:VEVENT
BEGIN:VEVENT
DTSTART;TZID=America/New_York:20290329T180000
DTEND;TZID=America/New_York:20290329T200000
DTSTAMP:20260424T035029
CREATED:20260225T170541Z
LAST-MODIFIED:20260225T170902Z
UID:10000440-1869501600-1869508800@www.avpny.org
SUMMARY:Brooklyn Landing Strip\, weekly
DESCRIPTION:Landing Strip is an event to offer a welcoming hand to those AVP participants and facilitators who are going through the transition from prison back to society. \n\n\n\nClick here for flyer. \n\n\n\nLanding Strip es un evento para ofrecer una mano de bienvenida a los participantes y facilitadores de AVP que están pasando por la transición de la prisión a la sociedad. \n\n\n\nHaga clic aquí para ver el folleto.
URL:https://www.avpny.org/event/brooklyn-landing-strip-weekly/2029-03-29/
LOCATION:BK 5860\, 55 Hegeman Ave\, Brooklyn\, New York\, 11212\, United States
END:VEVENT
BEGIN:VEVENT
DTSTART;TZID=America/New_York:20290405T180000
DTEND;TZID=America/New_York:20290405T200000
DTSTAMP:20260424T035029
CREATED:20260225T170541Z
LAST-MODIFIED:20260225T170902Z
UID:10000441-1870106400-1870113600@www.avpny.org
SUMMARY:Brooklyn Landing Strip\, weekly
DESCRIPTION:Landing Strip is an event to offer a welcoming hand to those AVP participants and facilitators who are going through the transition from prison back to society. \n\n\n\nClick here for flyer. \n\n\n\nLanding Strip es un evento para ofrecer una mano de bienvenida a los participantes y facilitadores de AVP que están pasando por la transición de la prisión a la sociedad. \n\n\n\nHaga clic aquí para ver el folleto.
URL:https://www.avpny.org/event/brooklyn-landing-strip-weekly/2029-04-05/
LOCATION:BK 5860\, 55 Hegeman Ave\, Brooklyn\, New York\, 11212\, United States
END:VEVENT
BEGIN:VEVENT
DTSTART;TZID=America/New_York:20290412T180000
DTEND;TZID=America/New_York:20290412T200000
DTSTAMP:20260424T035029
CREATED:20260225T170541Z
LAST-MODIFIED:20260225T170902Z
UID:10000442-1870711200-1870718400@www.avpny.org
SUMMARY:Brooklyn Landing Strip\, weekly
DESCRIPTION:Landing Strip is an event to offer a welcoming hand to those AVP participants and facilitators who are going through the transition from prison back to society. \n\n\n\nClick here for flyer. \n\n\n\nLanding Strip es un evento para ofrecer una mano de bienvenida a los participantes y facilitadores de AVP que están pasando por la transición de la prisión a la sociedad. \n\n\n\nHaga clic aquí para ver el folleto.
URL:https://www.avpny.org/event/brooklyn-landing-strip-weekly/2029-04-12/
LOCATION:BK 5860\, 55 Hegeman Ave\, Brooklyn\, New York\, 11212\, United States
END:VEVENT
BEGIN:VEVENT
DTSTART;TZID=America/New_York:20290419T180000
DTEND;TZID=America/New_York:20290419T200000
DTSTAMP:20260424T035029
CREATED:20260225T170541Z
LAST-MODIFIED:20260225T170902Z
UID:10000443-1871316000-1871323200@www.avpny.org
SUMMARY:Brooklyn Landing Strip\, weekly
DESCRIPTION:Landing Strip is an event to offer a welcoming hand to those AVP participants and facilitators who are going through the transition from prison back to society. \n\n\n\nClick here for flyer. \n\n\n\nLanding Strip es un evento para ofrecer una mano de bienvenida a los participantes y facilitadores de AVP que están pasando por la transición de la prisión a la sociedad. \n\n\n\nHaga clic aquí para ver el folleto.
URL:https://www.avpny.org/event/brooklyn-landing-strip-weekly/2029-04-19/
LOCATION:BK 5860\, 55 Hegeman Ave\, Brooklyn\, New York\, 11212\, United States
END:VEVENT
BEGIN:VEVENT
DTSTART;TZID=America/New_York:20290426T180000
DTEND;TZID=America/New_York:20290426T200000
DTSTAMP:20260424T035029
CREATED:20260225T170541Z
LAST-MODIFIED:20260225T170902Z
UID:10000444-1871920800-1871928000@www.avpny.org
SUMMARY:Brooklyn Landing Strip\, weekly
DESCRIPTION:Landing Strip is an event to offer a welcoming hand to those AVP participants and facilitators who are going through the transition from prison back to society. \n\n\n\nClick here for flyer. \n\n\n\nLanding Strip es un evento para ofrecer una mano de bienvenida a los participantes y facilitadores de AVP que están pasando por la transición de la prisión a la sociedad. \n\n\n\nHaga clic aquí para ver el folleto.
URL:https://www.avpny.org/event/brooklyn-landing-strip-weekly/2029-04-26/
LOCATION:BK 5860\, 55 Hegeman Ave\, Brooklyn\, New York\, 11212\, United States
END:VEVENT
BEGIN:VEVENT
DTSTART;TZID=America/New_York:20290503T180000
DTEND;TZID=America/New_York:20290503T200000
DTSTAMP:20260424T035029
CREATED:20260225T170541Z
LAST-MODIFIED:20260225T170902Z
UID:10000445-1872525600-1872532800@www.avpny.org
SUMMARY:Brooklyn Landing Strip\, weekly
DESCRIPTION:Landing Strip is an event to offer a welcoming hand to those AVP participants and facilitators who are going through the transition from prison back to society. \n\n\n\nClick here for flyer. \n\n\n\nLanding Strip es un evento para ofrecer una mano de bienvenida a los participantes y facilitadores de AVP que están pasando por la transición de la prisión a la sociedad. \n\n\n\nHaga clic aquí para ver el folleto.
URL:https://www.avpny.org/event/brooklyn-landing-strip-weekly/2029-05-03/
LOCATION:BK 5860\, 55 Hegeman Ave\, Brooklyn\, New York\, 11212\, United States
END:VEVENT
BEGIN:VEVENT
DTSTART;TZID=America/New_York:20290510T180000
DTEND;TZID=America/New_York:20290510T200000
DTSTAMP:20260424T035029
CREATED:20260225T170541Z
LAST-MODIFIED:20260225T170902Z
UID:10000446-1873130400-1873137600@www.avpny.org
SUMMARY:Brooklyn Landing Strip\, weekly
DESCRIPTION:Landing Strip is an event to offer a welcoming hand to those AVP participants and facilitators who are going through the transition from prison back to society. \n\n\n\nClick here for flyer. \n\n\n\nLanding Strip es un evento para ofrecer una mano de bienvenida a los participantes y facilitadores de AVP que están pasando por la transición de la prisión a la sociedad. \n\n\n\nHaga clic aquí para ver el folleto.
URL:https://www.avpny.org/event/brooklyn-landing-strip-weekly/2029-05-10/
LOCATION:BK 5860\, 55 Hegeman Ave\, Brooklyn\, New York\, 11212\, United States
END:VEVENT
BEGIN:VEVENT
DTSTART;TZID=America/New_York:20290517T180000
DTEND;TZID=America/New_York:20290517T200000
DTSTAMP:20260424T035029
CREATED:20260225T170541Z
LAST-MODIFIED:20260225T170902Z
UID:10000447-1873735200-1873742400@www.avpny.org
SUMMARY:Brooklyn Landing Strip\, weekly
DESCRIPTION:Landing Strip is an event to offer a welcoming hand to those AVP participants and facilitators who are going through the transition from prison back to society. \n\n\n\nClick here for flyer. \n\n\n\nLanding Strip es un evento para ofrecer una mano de bienvenida a los participantes y facilitadores de AVP que están pasando por la transición de la prisión a la sociedad. \n\n\n\nHaga clic aquí para ver el folleto.
URL:https://www.avpny.org/event/brooklyn-landing-strip-weekly/2029-05-17/
LOCATION:BK 5860\, 55 Hegeman Ave\, Brooklyn\, New York\, 11212\, United States
END:VEVENT
BEGIN:VEVENT
DTSTART;TZID=America/New_York:20290524T180000
DTEND;TZID=America/New_York:20290524T200000
DTSTAMP:20260424T035029
CREATED:20260225T170541Z
LAST-MODIFIED:20260225T170902Z
UID:10000448-1874340000-1874347200@www.avpny.org
SUMMARY:Brooklyn Landing Strip\, weekly
DESCRIPTION:Landing Strip is an event to offer a welcoming hand to those AVP participants and facilitators who are going through the transition from prison back to society. \n\n\n\nClick here for flyer. \n\n\n\nLanding Strip es un evento para ofrecer una mano de bienvenida a los participantes y facilitadores de AVP que están pasando por la transición de la prisión a la sociedad. \n\n\n\nHaga clic aquí para ver el folleto.
URL:https://www.avpny.org/event/brooklyn-landing-strip-weekly/2029-05-24/
LOCATION:BK 5860\, 55 Hegeman Ave\, Brooklyn\, New York\, 11212\, United States
END:VEVENT
BEGIN:VEVENT
DTSTART;TZID=America/New_York:20290531T180000
DTEND;TZID=America/New_York:20290531T200000
DTSTAMP:20260424T035029
CREATED:20260225T170541Z
LAST-MODIFIED:20260225T170902Z
UID:10000449-1874944800-1874952000@www.avpny.org
SUMMARY:Brooklyn Landing Strip\, weekly
DESCRIPTION:Landing Strip is an event to offer a welcoming hand to those AVP participants and facilitators who are going through the transition from prison back to society. \n\n\n\nClick here for flyer. \n\n\n\nLanding Strip es un evento para ofrecer una mano de bienvenida a los participantes y facilitadores de AVP que están pasando por la transición de la prisión a la sociedad. \n\n\n\nHaga clic aquí para ver el folleto.
URL:https://www.avpny.org/event/brooklyn-landing-strip-weekly/2029-05-31/
LOCATION:BK 5860\, 55 Hegeman Ave\, Brooklyn\, New York\, 11212\, United States
END:VEVENT
BEGIN:VEVENT
DTSTART;TZID=America/New_York:20290607T180000
DTEND;TZID=America/New_York:20290607T200000
DTSTAMP:20260424T035029
CREATED:20260225T170541Z
LAST-MODIFIED:20260225T170902Z
UID:10000450-1875549600-1875556800@www.avpny.org
SUMMARY:Brooklyn Landing Strip\, weekly
DESCRIPTION:Landing Strip is an event to offer a welcoming hand to those AVP participants and facilitators who are going through the transition from prison back to society. \n\n\n\nClick here for flyer. \n\n\n\nLanding Strip es un evento para ofrecer una mano de bienvenida a los participantes y facilitadores de AVP que están pasando por la transición de la prisión a la sociedad. \n\n\n\nHaga clic aquí para ver el folleto.
URL:https://www.avpny.org/event/brooklyn-landing-strip-weekly/2029-06-07/
LOCATION:BK 5860\, 55 Hegeman Ave\, Brooklyn\, New York\, 11212\, United States
END:VEVENT
BEGIN:VEVENT
DTSTART;TZID=America/New_York:20290614T180000
DTEND;TZID=America/New_York:20290614T200000
DTSTAMP:20260424T035029
CREATED:20260225T170541Z
LAST-MODIFIED:20260225T170902Z
UID:10000451-1876154400-1876161600@www.avpny.org
SUMMARY:Brooklyn Landing Strip\, weekly
DESCRIPTION:Landing Strip is an event to offer a welcoming hand to those AVP participants and facilitators who are going through the transition from prison back to society. \n\n\n\nClick here for flyer. \n\n\n\nLanding Strip es un evento para ofrecer una mano de bienvenida a los participantes y facilitadores de AVP que están pasando por la transición de la prisión a la sociedad. \n\n\n\nHaga clic aquí para ver el folleto.
URL:https://www.avpny.org/event/brooklyn-landing-strip-weekly/2029-06-14/
LOCATION:BK 5860\, 55 Hegeman Ave\, Brooklyn\, New York\, 11212\, United States
END:VEVENT
BEGIN:VEVENT
DTSTART;TZID=America/New_York:20290621T180000
DTEND;TZID=America/New_York:20290621T200000
DTSTAMP:20260424T035029
CREATED:20260225T170541Z
LAST-MODIFIED:20260225T170902Z
UID:10000452-1876759200-1876766400@www.avpny.org
SUMMARY:Brooklyn Landing Strip\, weekly
DESCRIPTION:Landing Strip is an event to offer a welcoming hand to those AVP participants and facilitators who are going through the transition from prison back to society. \n\n\n\nClick here for flyer. \n\n\n\nLanding Strip es un evento para ofrecer una mano de bienvenida a los participantes y facilitadores de AVP que están pasando por la transición de la prisión a la sociedad. \n\n\n\nHaga clic aquí para ver el folleto.
URL:https://www.avpny.org/event/brooklyn-landing-strip-weekly/2029-06-21/
LOCATION:BK 5860\, 55 Hegeman Ave\, Brooklyn\, New York\, 11212\, United States
END:VEVENT
BEGIN:VEVENT
DTSTART;TZID=America/New_York:20290628T180000
DTEND;TZID=America/New_York:20290628T200000
DTSTAMP:20260424T035029
CREATED:20260225T170541Z
LAST-MODIFIED:20260225T170902Z
UID:10000453-1877364000-1877371200@www.avpny.org
SUMMARY:Brooklyn Landing Strip\, weekly
DESCRIPTION:Landing Strip is an event to offer a welcoming hand to those AVP participants and facilitators who are going through the transition from prison back to society. \n\n\n\nClick here for flyer. \n\n\n\nLanding Strip es un evento para ofrecer una mano de bienvenida a los participantes y facilitadores de AVP que están pasando por la transición de la prisión a la sociedad. \n\n\n\nHaga clic aquí para ver el folleto.
URL:https://www.avpny.org/event/brooklyn-landing-strip-weekly/2029-06-28/
LOCATION:BK 5860\, 55 Hegeman Ave\, Brooklyn\, New York\, 11212\, United States
END:VEVENT
BEGIN:VEVENT
DTSTART;TZID=America/New_York:20290705T180000
DTEND;TZID=America/New_York:20290705T200000
DTSTAMP:20260424T035029
CREATED:20260225T170541Z
LAST-MODIFIED:20260225T170902Z
UID:10000454-1877968800-1877976000@www.avpny.org
SUMMARY:Brooklyn Landing Strip\, weekly
DESCRIPTION:Landing Strip is an event to offer a welcoming hand to those AVP participants and facilitators who are going through the transition from prison back to society. \n\n\n\nClick here for flyer. \n\n\n\nLanding Strip es un evento para ofrecer una mano de bienvenida a los participantes y facilitadores de AVP que están pasando por la transición de la prisión a la sociedad. \n\n\n\nHaga clic aquí para ver el folleto.
URL:https://www.avpny.org/event/brooklyn-landing-strip-weekly/2029-07-05/
LOCATION:BK 5860\, 55 Hegeman Ave\, Brooklyn\, New York\, 11212\, United States
END:VEVENT
BEGIN:VEVENT
DTSTART;TZID=America/New_York:20290712T180000
DTEND;TZID=America/New_York:20290712T200000
DTSTAMP:20260424T035030
CREATED:20260225T170541Z
LAST-MODIFIED:20260225T170902Z
UID:10000455-1878573600-1878580800@www.avpny.org
SUMMARY:Brooklyn Landing Strip\, weekly
DESCRIPTION:Landing Strip is an event to offer a welcoming hand to those AVP participants and facilitators who are going through the transition from prison back to society. \n\n\n\nClick here for flyer. \n\n\n\nLanding Strip es un evento para ofrecer una mano de bienvenida a los participantes y facilitadores de AVP que están pasando por la transición de la prisión a la sociedad. \n\n\n\nHaga clic aquí para ver el folleto.
URL:https://www.avpny.org/event/brooklyn-landing-strip-weekly/2029-07-12/
LOCATION:BK 5860\, 55 Hegeman Ave\, Brooklyn\, New York\, 11212\, United States
END:VEVENT
BEGIN:VEVENT
DTSTART;TZID=America/New_York:20290719T180000
DTEND;TZID=America/New_York:20290719T200000
DTSTAMP:20260424T035030
CREATED:20260225T170541Z
LAST-MODIFIED:20260225T170902Z
UID:10000456-1879178400-1879185600@www.avpny.org
SUMMARY:Brooklyn Landing Strip\, weekly
DESCRIPTION:Landing Strip is an event to offer a welcoming hand to those AVP participants and facilitators who are going through the transition from prison back to society. \n\n\n\nClick here for flyer. \n\n\n\nLanding Strip es un evento para ofrecer una mano de bienvenida a los participantes y facilitadores de AVP que están pasando por la transición de la prisión a la sociedad. \n\n\n\nHaga clic aquí para ver el folleto.
URL:https://www.avpny.org/event/brooklyn-landing-strip-weekly/2029-07-19/
LOCATION:BK 5860\, 55 Hegeman Ave\, Brooklyn\, New York\, 11212\, United States
END:VEVENT
BEGIN:VEVENT
DTSTART;TZID=America/New_York:20290726T180000
DTEND;TZID=America/New_York:20290726T200000
DTSTAMP:20260424T035030
CREATED:20260225T170541Z
LAST-MODIFIED:20260225T170902Z
UID:10000457-1879783200-1879790400@www.avpny.org
SUMMARY:Brooklyn Landing Strip\, weekly
DESCRIPTION:Landing Strip is an event to offer a welcoming hand to those AVP participants and facilitators who are going through the transition from prison back to society. \n\n\n\nClick here for flyer. \n\n\n\nLanding Strip es un evento para ofrecer una mano de bienvenida a los participantes y facilitadores de AVP que están pasando por la transición de la prisión a la sociedad. \n\n\n\nHaga clic aquí para ver el folleto.
URL:https://www.avpny.org/event/brooklyn-landing-strip-weekly/2029-07-26/
LOCATION:BK 5860\, 55 Hegeman Ave\, Brooklyn\, New York\, 11212\, United States
END:VEVENT
BEGIN:VEVENT
DTSTART;TZID=America/New_York:20290802T180000
DTEND;TZID=America/New_York:20290802T200000
DTSTAMP:20260424T035030
CREATED:20260225T170541Z
LAST-MODIFIED:20260225T170902Z
UID:10000458-1880388000-1880395200@www.avpny.org
SUMMARY:Brooklyn Landing Strip\, weekly
DESCRIPTION:Landing Strip is an event to offer a welcoming hand to those AVP participants and facilitators who are going through the transition from prison back to society. \n\n\n\nClick here for flyer. \n\n\n\nLanding Strip es un evento para ofrecer una mano de bienvenida a los participantes y facilitadores de AVP que están pasando por la transición de la prisión a la sociedad. \n\n\n\nHaga clic aquí para ver el folleto.
URL:https://www.avpny.org/event/brooklyn-landing-strip-weekly/2029-08-02/
LOCATION:BK 5860\, 55 Hegeman Ave\, Brooklyn\, New York\, 11212\, United States
END:VEVENT
BEGIN:VEVENT
DTSTART;TZID=America/New_York:20290809T180000
DTEND;TZID=America/New_York:20290809T200000
DTSTAMP:20260424T035030
CREATED:20260225T170541Z
LAST-MODIFIED:20260225T170902Z
UID:10000459-1880992800-1881000000@www.avpny.org
SUMMARY:Brooklyn Landing Strip\, weekly
DESCRIPTION:Landing Strip is an event to offer a welcoming hand to those AVP participants and facilitators who are going through the transition from prison back to society. \n\n\n\nClick here for flyer. \n\n\n\nLanding Strip es un evento para ofrecer una mano de bienvenida a los participantes y facilitadores de AVP que están pasando por la transición de la prisión a la sociedad. \n\n\n\nHaga clic aquí para ver el folleto.
URL:https://www.avpny.org/event/brooklyn-landing-strip-weekly/2029-08-09/
LOCATION:BK 5860\, 55 Hegeman Ave\, Brooklyn\, New York\, 11212\, United States
END:VEVENT
BEGIN:VEVENT
DTSTART;TZID=America/New_York:20290816T180000
DTEND;TZID=America/New_York:20290816T200000
DTSTAMP:20260424T035030
CREATED:20260225T170541Z
LAST-MODIFIED:20260225T170902Z
UID:10000460-1881597600-1881604800@www.avpny.org
SUMMARY:Brooklyn Landing Strip\, weekly
DESCRIPTION:Landing Strip is an event to offer a welcoming hand to those AVP participants and facilitators who are going through the transition from prison back to society. \n\n\n\nClick here for flyer. \n\n\n\nLanding Strip es un evento para ofrecer una mano de bienvenida a los participantes y facilitadores de AVP que están pasando por la transición de la prisión a la sociedad. \n\n\n\nHaga clic aquí para ver el folleto.
URL:https://www.avpny.org/event/brooklyn-landing-strip-weekly/2029-08-16/
LOCATION:BK 5860\, 55 Hegeman Ave\, Brooklyn\, New York\, 11212\, United States
END:VEVENT
BEGIN:VEVENT
DTSTART;TZID=America/New_York:20290823T180000
DTEND;TZID=America/New_York:20290823T200000
DTSTAMP:20260424T035030
CREATED:20260225T170541Z
LAST-MODIFIED:20260225T170902Z
UID:10000461-1882202400-1882209600@www.avpny.org
SUMMARY:Brooklyn Landing Strip\, weekly
DESCRIPTION:Landing Strip is an event to offer a welcoming hand to those AVP participants and facilitators who are going through the transition from prison back to society. \n\n\n\nClick here for flyer. \n\n\n\nLanding Strip es un evento para ofrecer una mano de bienvenida a los participantes y facilitadores de AVP que están pasando por la transición de la prisión a la sociedad. \n\n\n\nHaga clic aquí para ver el folleto.
URL:https://www.avpny.org/event/brooklyn-landing-strip-weekly/2029-08-23/
LOCATION:BK 5860\, 55 Hegeman Ave\, Brooklyn\, New York\, 11212\, United States
END:VEVENT
BEGIN:VEVENT
DTSTART;TZID=America/New_York:20290830T180000
DTEND;TZID=America/New_York:20290830T200000
DTSTAMP:20260424T035030
CREATED:20260225T170541Z
LAST-MODIFIED:20260225T170902Z
UID:10000462-1882807200-1882814400@www.avpny.org
SUMMARY:Brooklyn Landing Strip\, weekly
DESCRIPTION:Landing Strip is an event to offer a welcoming hand to those AVP participants and facilitators who are going through the transition from prison back to society. \n\n\n\nClick here for flyer. \n\n\n\nLanding Strip es un evento para ofrecer una mano de bienvenida a los participantes y facilitadores de AVP que están pasando por la transición de la prisión a la sociedad. \n\n\n\nHaga clic aquí para ver el folleto.
URL:https://www.avpny.org/event/brooklyn-landing-strip-weekly/2029-08-30/
LOCATION:BK 5860\, 55 Hegeman Ave\, Brooklyn\, New York\, 11212\, United States
END:VEVENT
BEGIN:VEVENT
DTSTART;TZID=America/New_York:20290906T180000
DTEND;TZID=America/New_York:20290906T200000
DTSTAMP:20260424T035030
CREATED:20260225T170541Z
LAST-MODIFIED:20260225T170902Z
UID:10000463-1883412000-1883419200@www.avpny.org
SUMMARY:Brooklyn Landing Strip\, weekly
DESCRIPTION:Landing Strip is an event to offer a welcoming hand to those AVP participants and facilitators who are going through the transition from prison back to society. \n\n\n\nClick here for flyer. \n\n\n\nLanding Strip es un evento para ofrecer una mano de bienvenida a los participantes y facilitadores de AVP que están pasando por la transición de la prisión a la sociedad. \n\n\n\nHaga clic aquí para ver el folleto.
URL:https://www.avpny.org/event/brooklyn-landing-strip-weekly/2029-09-06/
LOCATION:BK 5860\, 55 Hegeman Ave\, Brooklyn\, New York\, 11212\, United States
END:VEVENT
BEGIN:VEVENT
DTSTART;TZID=America/New_York:20290913T180000
DTEND;TZID=America/New_York:20290913T200000
DTSTAMP:20260424T035030
CREATED:20260225T170541Z
LAST-MODIFIED:20260225T170902Z
UID:10000464-1884016800-1884024000@www.avpny.org
SUMMARY:Brooklyn Landing Strip\, weekly
DESCRIPTION:Landing Strip is an event to offer a welcoming hand to those AVP participants and facilitators who are going through the transition from prison back to society. \n\n\n\nClick here for flyer. \n\n\n\nLanding Strip es un evento para ofrecer una mano de bienvenida a los participantes y facilitadores de AVP que están pasando por la transición de la prisión a la sociedad. \n\n\n\nHaga clic aquí para ver el folleto.
URL:https://www.avpny.org/event/brooklyn-landing-strip-weekly/2029-09-13/
LOCATION:BK 5860\, 55 Hegeman Ave\, Brooklyn\, New York\, 11212\, United States
END:VEVENT
BEGIN:VEVENT
DTSTART;TZID=America/New_York:20290920T180000
DTEND;TZID=America/New_York:20290920T200000
DTSTAMP:20260424T035030
CREATED:20260225T170541Z
LAST-MODIFIED:20260225T170902Z
UID:10000465-1884621600-1884628800@www.avpny.org
SUMMARY:Brooklyn Landing Strip\, weekly
DESCRIPTION:Landing Strip is an event to offer a welcoming hand to those AVP participants and facilitators who are going through the transition from prison back to society. \n\n\n\nClick here for flyer. \n\n\n\nLanding Strip es un evento para ofrecer una mano de bienvenida a los participantes y facilitadores de AVP que están pasando por la transición de la prisión a la sociedad. \n\n\n\nHaga clic aquí para ver el folleto.
URL:https://www.avpny.org/event/brooklyn-landing-strip-weekly/2029-09-20/
LOCATION:BK 5860\, 55 Hegeman Ave\, Brooklyn\, New York\, 11212\, United States
END:VEVENT
BEGIN:VEVENT
DTSTART;TZID=America/New_York:20290927T180000
DTEND;TZID=America/New_York:20290927T200000
DTSTAMP:20260424T035030
CREATED:20260225T170541Z
LAST-MODIFIED:20260225T170902Z
UID:10000466-1885226400-1885233600@www.avpny.org
SUMMARY:Brooklyn Landing Strip\, weekly
DESCRIPTION:Landing Strip is an event to offer a welcoming hand to those AVP participants and facilitators who are going through the transition from prison back to society. \n\n\n\nClick here for flyer. \n\n\n\nLanding Strip es un evento para ofrecer una mano de bienvenida a los participantes y facilitadores de AVP que están pasando por la transición de la prisión a la sociedad. \n\n\n\nHaga clic aquí para ver el folleto.
URL:https://www.avpny.org/event/brooklyn-landing-strip-weekly/2029-09-27/
LOCATION:BK 5860\, 55 Hegeman Ave\, Brooklyn\, New York\, 11212\, United States
END:VEVENT
BEGIN:VEVENT
DTSTART;TZID=America/New_York:20291004T180000
DTEND;TZID=America/New_York:20291004T200000
DTSTAMP:20260424T035030
CREATED:20260225T170541Z
LAST-MODIFIED:20260225T170902Z
UID:10000467-1885831200-1885838400@www.avpny.org
SUMMARY:Brooklyn Landing Strip\, weekly
DESCRIPTION:Landing Strip is an event to offer a welcoming hand to those AVP participants and facilitators who are going through the transition from prison back to society. \n\n\n\nClick here for flyer. \n\n\n\nLanding Strip es un evento para ofrecer una mano de bienvenida a los participantes y facilitadores de AVP que están pasando por la transición de la prisión a la sociedad. \n\n\n\nHaga clic aquí para ver el folleto.
URL:https://www.avpny.org/event/brooklyn-landing-strip-weekly/2029-10-04/
LOCATION:BK 5860\, 55 Hegeman Ave\, Brooklyn\, New York\, 11212\, United States
END:VEVENT
END:VCALENDAR