BEGIN:VCALENDAR
VERSION:2.0
PRODID:-//Alternatives to Violence Project New York - ECPv6.15.20//NONSGML v1.0//EN
CALSCALE:GREGORIAN
METHOD:PUBLISH
X-ORIGINAL-URL:https://www.avpny.org
X-WR-CALDESC:Events for Alternatives to Violence Project New York
REFRESH-INTERVAL;VALUE=DURATION:PT1H
X-Robots-Tag:noindex
X-PUBLISHED-TTL:PT1H
BEGIN:VTIMEZONE
TZID:America/New_York
BEGIN:DAYLIGHT
TZOFFSETFROM:-0500
TZOFFSETTO:-0400
TZNAME:EDT
DTSTART:20270314T070000
END:DAYLIGHT
BEGIN:STANDARD
TZOFFSETFROM:-0400
TZOFFSETTO:-0500
TZNAME:EST
DTSTART:20271107T060000
END:STANDARD
BEGIN:DAYLIGHT
TZOFFSETFROM:-0500
TZOFFSETTO:-0400
TZNAME:EDT
DTSTART:20280312T070000
END:DAYLIGHT
BEGIN:STANDARD
TZOFFSETFROM:-0400
TZOFFSETTO:-0500
TZNAME:EST
DTSTART:20281105T060000
END:STANDARD
BEGIN:DAYLIGHT
TZOFFSETFROM:-0500
TZOFFSETTO:-0400
TZNAME:EDT
DTSTART:20290311T070000
END:DAYLIGHT
BEGIN:STANDARD
TZOFFSETFROM:-0400
TZOFFSETTO:-0500
TZNAME:EST
DTSTART:20291104T060000
END:STANDARD
BEGIN:DAYLIGHT
TZOFFSETFROM:-0500
TZOFFSETTO:-0400
TZNAME:EDT
DTSTART:20300310T070000
END:DAYLIGHT
BEGIN:STANDARD
TZOFFSETFROM:-0400
TZOFFSETTO:-0500
TZNAME:EST
DTSTART:20301103T060000
END:STANDARD
END:VTIMEZONE
BEGIN:VEVENT
DTSTART;TZID=America/New_York:20281221T170000
DTEND;TZID=America/New_York:20281221T190000
DTSTAMP:20260422T182418
CREATED:20240528T185401Z
LAST-MODIFIED:20260225T165251Z
UID:10000060-1861030800-1861038000@www.avpny.org
SUMMARY:Rochester Landing Strip
DESCRIPTION:Landing Strip is an event to offer a welcoming hand to those who are going through the transition back to society from prison. \n\n\n\nLanding Strip es un evento ofrecer la bienvenida a aquellos que están pasando por la transición de vuelta a la sociedad desde la carcel. \n\n\n\nClick here for a flyer in English and in Spanish \n\n\n\nHaga clic aquí para ver el folleto en inglés y en español
URL:https://www.avpny.org/event/rochester-landing-strip/2028-12-21/
LOCATION:M.K. Gandhi Institute for Nonviolence\, 929 S. Plymouth Ave\, Rochester\, New York\, United States
END:VEVENT
BEGIN:VEVENT
DTSTART;TZID=America/New_York:20281221T180000
DTEND;TZID=America/New_York:20281221T200000
DTSTAMP:20260422T182418
CREATED:20260225T170541Z
LAST-MODIFIED:20260225T170902Z
UID:10000426-1861034400-1861041600@www.avpny.org
SUMMARY:Brooklyn Landing Strip\, weekly
DESCRIPTION:Landing Strip is an event to offer a welcoming hand to those AVP participants and facilitators who are going through the transition from prison back to society. \n\n\n\nClick here for flyer. \n\n\n\nLanding Strip es un evento para ofrecer una mano de bienvenida a los participantes y facilitadores de AVP que están pasando por la transición de la prisión a la sociedad. \n\n\n\nHaga clic aquí para ver el folleto.
URL:https://www.avpny.org/event/brooklyn-landing-strip-weekly/2028-12-21/
LOCATION:BK 5860\, 55 Hegeman Ave\, Brooklyn\, New York\, 11212\, United States
END:VEVENT
BEGIN:VEVENT
DTSTART;TZID=America/New_York:20281228T180000
DTEND;TZID=America/New_York:20281228T200000
DTSTAMP:20260422T182418
CREATED:20260225T170541Z
LAST-MODIFIED:20260225T170902Z
UID:10000427-1861639200-1861646400@www.avpny.org
SUMMARY:Brooklyn Landing Strip\, weekly
DESCRIPTION:Landing Strip is an event to offer a welcoming hand to those AVP participants and facilitators who are going through the transition from prison back to society. \n\n\n\nClick here for flyer. \n\n\n\nLanding Strip es un evento para ofrecer una mano de bienvenida a los participantes y facilitadores de AVP que están pasando por la transición de la prisión a la sociedad. \n\n\n\nHaga clic aquí para ver el folleto.
URL:https://www.avpny.org/event/brooklyn-landing-strip-weekly/2028-12-28/
LOCATION:BK 5860\, 55 Hegeman Ave\, Brooklyn\, New York\, 11212\, United States
END:VEVENT
BEGIN:VEVENT
DTSTART;TZID=America/New_York:20290104T180000
DTEND;TZID=America/New_York:20290104T200000
DTSTAMP:20260422T182418
CREATED:20260225T170541Z
LAST-MODIFIED:20260225T170902Z
UID:10000428-1862244000-1862251200@www.avpny.org
SUMMARY:Brooklyn Landing Strip\, weekly
DESCRIPTION:Landing Strip is an event to offer a welcoming hand to those AVP participants and facilitators who are going through the transition from prison back to society. \n\n\n\nClick here for flyer. \n\n\n\nLanding Strip es un evento para ofrecer una mano de bienvenida a los participantes y facilitadores de AVP que están pasando por la transición de la prisión a la sociedad. \n\n\n\nHaga clic aquí para ver el folleto.
URL:https://www.avpny.org/event/brooklyn-landing-strip-weekly/2029-01-04/
LOCATION:BK 5860\, 55 Hegeman Ave\, Brooklyn\, New York\, 11212\, United States
END:VEVENT
BEGIN:VEVENT
DTSTART;TZID=America/New_York:20290106T100000
DTEND;TZID=America/New_York:20290106T120000
DTSTAMP:20260422T182418
CREATED:20240530T144507Z
LAST-MODIFIED:20260225T165624Z
UID:10000121-1862388000-1862395200@www.avpny.org
SUMMARY:Rochester Landing Strip
DESCRIPTION:Landing Strip is an event to offer a welcoming hand to those AVP participants and facilitators who are going through the transition from prison back to society. \n\n\n\nClick here for flyer. \n\n\n\nLanding Strip es un evento para ofrecer una mano de bienvenida a los participantes y facilitadores de AVP que están pasando por la transición de la prisión a la sociedad. \n\n\n\nHaga clic aquí para ver el folleto
URL:https://www.avpny.org/event/rochester-landing-strip-2/2029-01-06/
LOCATION:Bookeater\, 836 S. Clinton Ave\, Rochester\, New York\, 14620\, United States
END:VEVENT
BEGIN:VEVENT
DTSTART;TZID=America/New_York:20290109T180000
DTEND;TZID=America/New_York:20290109T200000
DTSTAMP:20260422T182418
CREATED:20250417T190438Z
LAST-MODIFIED:20260225T170956Z
UID:10000189-1862676000-1862683200@www.avpny.org
SUMMARY:Brooklyn Landing Strip\, monthly
DESCRIPTION:Landing Strip is an event to offer a welcoming hand to those AVP participants and facilitators who are going through the transition from prison back to society. \n\n\n\nClick here for flyer. \n\n\n\nLanding Strip es un evento para ofrecer una mano de bienvenida a los participantes y facilitadores de AVP que están pasando por la transición de la prisión a la sociedad. \n\n\n\nHaga clic aquí para ver el folleto.
URL:https://www.avpny.org/event/brooklyn-landing-strip/2029-01-09/
LOCATION:Brooklyn Friends (Quaker) Meetinghouse\, 110 Schermerhorn St\, Brooklyn\, New York\, 11201
END:VEVENT
BEGIN:VEVENT
DTSTART;TZID=America/New_York:20290111T180000
DTEND;TZID=America/New_York:20290111T200000
DTSTAMP:20260422T182418
CREATED:20260225T170541Z
LAST-MODIFIED:20260225T170902Z
UID:10000429-1862848800-1862856000@www.avpny.org
SUMMARY:Brooklyn Landing Strip\, weekly
DESCRIPTION:Landing Strip is an event to offer a welcoming hand to those AVP participants and facilitators who are going through the transition from prison back to society. \n\n\n\nClick here for flyer. \n\n\n\nLanding Strip es un evento para ofrecer una mano de bienvenida a los participantes y facilitadores de AVP que están pasando por la transición de la prisión a la sociedad. \n\n\n\nHaga clic aquí para ver el folleto.
URL:https://www.avpny.org/event/brooklyn-landing-strip-weekly/2029-01-11/
LOCATION:BK 5860\, 55 Hegeman Ave\, Brooklyn\, New York\, 11212\, United States
END:VEVENT
BEGIN:VEVENT
DTSTART;TZID=America/New_York:20290118T170000
DTEND;TZID=America/New_York:20290118T190000
DTSTAMP:20260422T182418
CREATED:20240528T185401Z
LAST-MODIFIED:20260225T165251Z
UID:10000061-1863450000-1863457200@www.avpny.org
SUMMARY:Rochester Landing Strip
DESCRIPTION:Landing Strip is an event to offer a welcoming hand to those who are going through the transition back to society from prison. \n\n\n\nLanding Strip es un evento ofrecer la bienvenida a aquellos que están pasando por la transición de vuelta a la sociedad desde la carcel. \n\n\n\nClick here for a flyer in English and in Spanish \n\n\n\nHaga clic aquí para ver el folleto en inglés y en español
URL:https://www.avpny.org/event/rochester-landing-strip/2029-01-18/
LOCATION:M.K. Gandhi Institute for Nonviolence\, 929 S. Plymouth Ave\, Rochester\, New York\, United States
END:VEVENT
BEGIN:VEVENT
DTSTART;TZID=America/New_York:20290118T180000
DTEND;TZID=America/New_York:20290118T200000
DTSTAMP:20260422T182418
CREATED:20260225T170541Z
LAST-MODIFIED:20260225T170902Z
UID:10000430-1863453600-1863460800@www.avpny.org
SUMMARY:Brooklyn Landing Strip\, weekly
DESCRIPTION:Landing Strip is an event to offer a welcoming hand to those AVP participants and facilitators who are going through the transition from prison back to society. \n\n\n\nClick here for flyer. \n\n\n\nLanding Strip es un evento para ofrecer una mano de bienvenida a los participantes y facilitadores de AVP que están pasando por la transición de la prisión a la sociedad. \n\n\n\nHaga clic aquí para ver el folleto.
URL:https://www.avpny.org/event/brooklyn-landing-strip-weekly/2029-01-18/
LOCATION:BK 5860\, 55 Hegeman Ave\, Brooklyn\, New York\, 11212\, United States
END:VEVENT
BEGIN:VEVENT
DTSTART;TZID=America/New_York:20290125T180000
DTEND;TZID=America/New_York:20290125T200000
DTSTAMP:20260422T182418
CREATED:20260225T170541Z
LAST-MODIFIED:20260225T170902Z
UID:10000431-1864058400-1864065600@www.avpny.org
SUMMARY:Brooklyn Landing Strip\, weekly
DESCRIPTION:Landing Strip is an event to offer a welcoming hand to those AVP participants and facilitators who are going through the transition from prison back to society. \n\n\n\nClick here for flyer. \n\n\n\nLanding Strip es un evento para ofrecer una mano de bienvenida a los participantes y facilitadores de AVP que están pasando por la transición de la prisión a la sociedad. \n\n\n\nHaga clic aquí para ver el folleto.
URL:https://www.avpny.org/event/brooklyn-landing-strip-weekly/2029-01-25/
LOCATION:BK 5860\, 55 Hegeman Ave\, Brooklyn\, New York\, 11212\, United States
END:VEVENT
BEGIN:VEVENT
DTSTART;TZID=America/New_York:20290201T180000
DTEND;TZID=America/New_York:20290201T200000
DTSTAMP:20260422T182418
CREATED:20260225T170541Z
LAST-MODIFIED:20260225T170902Z
UID:10000432-1864663200-1864670400@www.avpny.org
SUMMARY:Brooklyn Landing Strip\, weekly
DESCRIPTION:Landing Strip is an event to offer a welcoming hand to those AVP participants and facilitators who are going through the transition from prison back to society. \n\n\n\nClick here for flyer. \n\n\n\nLanding Strip es un evento para ofrecer una mano de bienvenida a los participantes y facilitadores de AVP que están pasando por la transición de la prisión a la sociedad. \n\n\n\nHaga clic aquí para ver el folleto.
URL:https://www.avpny.org/event/brooklyn-landing-strip-weekly/2029-02-01/
LOCATION:BK 5860\, 55 Hegeman Ave\, Brooklyn\, New York\, 11212\, United States
END:VEVENT
BEGIN:VEVENT
DTSTART;TZID=America/New_York:20290203T100000
DTEND;TZID=America/New_York:20290203T120000
DTSTAMP:20260422T182418
CREATED:20240530T144507Z
LAST-MODIFIED:20260225T165624Z
UID:10000122-1864807200-1864814400@www.avpny.org
SUMMARY:Rochester Landing Strip
DESCRIPTION:Landing Strip is an event to offer a welcoming hand to those AVP participants and facilitators who are going through the transition from prison back to society. \n\n\n\nClick here for flyer. \n\n\n\nLanding Strip es un evento para ofrecer una mano de bienvenida a los participantes y facilitadores de AVP que están pasando por la transición de la prisión a la sociedad. \n\n\n\nHaga clic aquí para ver el folleto
URL:https://www.avpny.org/event/rochester-landing-strip-2/2029-02-03/
LOCATION:Bookeater\, 836 S. Clinton Ave\, Rochester\, New York\, 14620\, United States
END:VEVENT
BEGIN:VEVENT
DTSTART;TZID=America/New_York:20290208T180000
DTEND;TZID=America/New_York:20290208T200000
DTSTAMP:20260422T182418
CREATED:20260225T170541Z
LAST-MODIFIED:20260225T170902Z
UID:10000433-1865268000-1865275200@www.avpny.org
SUMMARY:Brooklyn Landing Strip\, weekly
DESCRIPTION:Landing Strip is an event to offer a welcoming hand to those AVP participants and facilitators who are going through the transition from prison back to society. \n\n\n\nClick here for flyer. \n\n\n\nLanding Strip es un evento para ofrecer una mano de bienvenida a los participantes y facilitadores de AVP que están pasando por la transición de la prisión a la sociedad. \n\n\n\nHaga clic aquí para ver el folleto.
URL:https://www.avpny.org/event/brooklyn-landing-strip-weekly/2029-02-08/
LOCATION:BK 5860\, 55 Hegeman Ave\, Brooklyn\, New York\, 11212\, United States
END:VEVENT
BEGIN:VEVENT
DTSTART;TZID=America/New_York:20290213T180000
DTEND;TZID=America/New_York:20290213T200000
DTSTAMP:20260422T182418
CREATED:20250417T190438Z
LAST-MODIFIED:20260225T170956Z
UID:10000190-1865700000-1865707200@www.avpny.org
SUMMARY:Brooklyn Landing Strip\, monthly
DESCRIPTION:Landing Strip is an event to offer a welcoming hand to those AVP participants and facilitators who are going through the transition from prison back to society. \n\n\n\nClick here for flyer. \n\n\n\nLanding Strip es un evento para ofrecer una mano de bienvenida a los participantes y facilitadores de AVP que están pasando por la transición de la prisión a la sociedad. \n\n\n\nHaga clic aquí para ver el folleto.
URL:https://www.avpny.org/event/brooklyn-landing-strip/2029-02-13/
LOCATION:Brooklyn Friends (Quaker) Meetinghouse\, 110 Schermerhorn St\, Brooklyn\, New York\, 11201
END:VEVENT
BEGIN:VEVENT
DTSTART;TZID=America/New_York:20290215T170000
DTEND;TZID=America/New_York:20290215T190000
DTSTAMP:20260422T182418
CREATED:20240528T185401Z
LAST-MODIFIED:20260225T165251Z
UID:10000062-1865869200-1865876400@www.avpny.org
SUMMARY:Rochester Landing Strip
DESCRIPTION:Landing Strip is an event to offer a welcoming hand to those who are going through the transition back to society from prison. \n\n\n\nLanding Strip es un evento ofrecer la bienvenida a aquellos que están pasando por la transición de vuelta a la sociedad desde la carcel. \n\n\n\nClick here for a flyer in English and in Spanish \n\n\n\nHaga clic aquí para ver el folleto en inglés y en español
URL:https://www.avpny.org/event/rochester-landing-strip/2029-02-15/
LOCATION:M.K. Gandhi Institute for Nonviolence\, 929 S. Plymouth Ave\, Rochester\, New York\, United States
END:VEVENT
BEGIN:VEVENT
DTSTART;TZID=America/New_York:20290215T180000
DTEND;TZID=America/New_York:20290215T200000
DTSTAMP:20260422T182418
CREATED:20260225T170541Z
LAST-MODIFIED:20260225T170902Z
UID:10000434-1865872800-1865880000@www.avpny.org
SUMMARY:Brooklyn Landing Strip\, weekly
DESCRIPTION:Landing Strip is an event to offer a welcoming hand to those AVP participants and facilitators who are going through the transition from prison back to society. \n\n\n\nClick here for flyer. \n\n\n\nLanding Strip es un evento para ofrecer una mano de bienvenida a los participantes y facilitadores de AVP que están pasando por la transición de la prisión a la sociedad. \n\n\n\nHaga clic aquí para ver el folleto.
URL:https://www.avpny.org/event/brooklyn-landing-strip-weekly/2029-02-15/
LOCATION:BK 5860\, 55 Hegeman Ave\, Brooklyn\, New York\, 11212\, United States
END:VEVENT
BEGIN:VEVENT
DTSTART;TZID=America/New_York:20290222T180000
DTEND;TZID=America/New_York:20290222T200000
DTSTAMP:20260422T182418
CREATED:20260225T170541Z
LAST-MODIFIED:20260225T170902Z
UID:10000435-1866477600-1866484800@www.avpny.org
SUMMARY:Brooklyn Landing Strip\, weekly
DESCRIPTION:Landing Strip is an event to offer a welcoming hand to those AVP participants and facilitators who are going through the transition from prison back to society. \n\n\n\nClick here for flyer. \n\n\n\nLanding Strip es un evento para ofrecer una mano de bienvenida a los participantes y facilitadores de AVP que están pasando por la transición de la prisión a la sociedad. \n\n\n\nHaga clic aquí para ver el folleto.
URL:https://www.avpny.org/event/brooklyn-landing-strip-weekly/2029-02-22/
LOCATION:BK 5860\, 55 Hegeman Ave\, Brooklyn\, New York\, 11212\, United States
END:VEVENT
BEGIN:VEVENT
DTSTART;TZID=America/New_York:20290301T180000
DTEND;TZID=America/New_York:20290301T200000
DTSTAMP:20260422T182418
CREATED:20260225T170541Z
LAST-MODIFIED:20260225T170902Z
UID:10000436-1867082400-1867089600@www.avpny.org
SUMMARY:Brooklyn Landing Strip\, weekly
DESCRIPTION:Landing Strip is an event to offer a welcoming hand to those AVP participants and facilitators who are going through the transition from prison back to society. \n\n\n\nClick here for flyer. \n\n\n\nLanding Strip es un evento para ofrecer una mano de bienvenida a los participantes y facilitadores de AVP que están pasando por la transición de la prisión a la sociedad. \n\n\n\nHaga clic aquí para ver el folleto.
URL:https://www.avpny.org/event/brooklyn-landing-strip-weekly/2029-03-01/
LOCATION:BK 5860\, 55 Hegeman Ave\, Brooklyn\, New York\, 11212\, United States
END:VEVENT
BEGIN:VEVENT
DTSTART;TZID=America/New_York:20290303T100000
DTEND;TZID=America/New_York:20290303T120000
DTSTAMP:20260422T182418
CREATED:20240530T144507Z
LAST-MODIFIED:20260225T165624Z
UID:10000123-1867226400-1867233600@www.avpny.org
SUMMARY:Rochester Landing Strip
DESCRIPTION:Landing Strip is an event to offer a welcoming hand to those AVP participants and facilitators who are going through the transition from prison back to society. \n\n\n\nClick here for flyer. \n\n\n\nLanding Strip es un evento para ofrecer una mano de bienvenida a los participantes y facilitadores de AVP que están pasando por la transición de la prisión a la sociedad. \n\n\n\nHaga clic aquí para ver el folleto
URL:https://www.avpny.org/event/rochester-landing-strip-2/2029-03-03/
LOCATION:Bookeater\, 836 S. Clinton Ave\, Rochester\, New York\, 14620\, United States
END:VEVENT
BEGIN:VEVENT
DTSTART;TZID=America/New_York:20290308T180000
DTEND;TZID=America/New_York:20290308T200000
DTSTAMP:20260422T182418
CREATED:20260225T170541Z
LAST-MODIFIED:20260225T170902Z
UID:10000437-1867687200-1867694400@www.avpny.org
SUMMARY:Brooklyn Landing Strip\, weekly
DESCRIPTION:Landing Strip is an event to offer a welcoming hand to those AVP participants and facilitators who are going through the transition from prison back to society. \n\n\n\nClick here for flyer. \n\n\n\nLanding Strip es un evento para ofrecer una mano de bienvenida a los participantes y facilitadores de AVP que están pasando por la transición de la prisión a la sociedad. \n\n\n\nHaga clic aquí para ver el folleto.
URL:https://www.avpny.org/event/brooklyn-landing-strip-weekly/2029-03-08/
LOCATION:BK 5860\, 55 Hegeman Ave\, Brooklyn\, New York\, 11212\, United States
END:VEVENT
BEGIN:VEVENT
DTSTART;TZID=America/New_York:20290313T180000
DTEND;TZID=America/New_York:20290313T200000
DTSTAMP:20260422T182418
CREATED:20250417T190438Z
LAST-MODIFIED:20260225T170956Z
UID:10000191-1868119200-1868126400@www.avpny.org
SUMMARY:Brooklyn Landing Strip\, monthly
DESCRIPTION:Landing Strip is an event to offer a welcoming hand to those AVP participants and facilitators who are going through the transition from prison back to society. \n\n\n\nClick here for flyer. \n\n\n\nLanding Strip es un evento para ofrecer una mano de bienvenida a los participantes y facilitadores de AVP que están pasando por la transición de la prisión a la sociedad. \n\n\n\nHaga clic aquí para ver el folleto.
URL:https://www.avpny.org/event/brooklyn-landing-strip/2029-03-13/
LOCATION:Brooklyn Friends (Quaker) Meetinghouse\, 110 Schermerhorn St\, Brooklyn\, New York\, 11201
END:VEVENT
BEGIN:VEVENT
DTSTART;TZID=America/New_York:20290315T170000
DTEND;TZID=America/New_York:20290315T190000
DTSTAMP:20260422T182418
CREATED:20240528T185401Z
LAST-MODIFIED:20260225T165251Z
UID:10000063-1868288400-1868295600@www.avpny.org
SUMMARY:Rochester Landing Strip
DESCRIPTION:Landing Strip is an event to offer a welcoming hand to those who are going through the transition back to society from prison. \n\n\n\nLanding Strip es un evento ofrecer la bienvenida a aquellos que están pasando por la transición de vuelta a la sociedad desde la carcel. \n\n\n\nClick here for a flyer in English and in Spanish \n\n\n\nHaga clic aquí para ver el folleto en inglés y en español
URL:https://www.avpny.org/event/rochester-landing-strip/2029-03-15/
LOCATION:M.K. Gandhi Institute for Nonviolence\, 929 S. Plymouth Ave\, Rochester\, New York\, United States
END:VEVENT
BEGIN:VEVENT
DTSTART;TZID=America/New_York:20290315T180000
DTEND;TZID=America/New_York:20290315T200000
DTSTAMP:20260422T182418
CREATED:20260225T170541Z
LAST-MODIFIED:20260225T170902Z
UID:10000438-1868292000-1868299200@www.avpny.org
SUMMARY:Brooklyn Landing Strip\, weekly
DESCRIPTION:Landing Strip is an event to offer a welcoming hand to those AVP participants and facilitators who are going through the transition from prison back to society. \n\n\n\nClick here for flyer. \n\n\n\nLanding Strip es un evento para ofrecer una mano de bienvenida a los participantes y facilitadores de AVP que están pasando por la transición de la prisión a la sociedad. \n\n\n\nHaga clic aquí para ver el folleto.
URL:https://www.avpny.org/event/brooklyn-landing-strip-weekly/2029-03-15/
LOCATION:BK 5860\, 55 Hegeman Ave\, Brooklyn\, New York\, 11212\, United States
END:VEVENT
BEGIN:VEVENT
DTSTART;TZID=America/New_York:20290322T180000
DTEND;TZID=America/New_York:20290322T200000
DTSTAMP:20260422T182418
CREATED:20260225T170541Z
LAST-MODIFIED:20260225T170902Z
UID:10000439-1868896800-1868904000@www.avpny.org
SUMMARY:Brooklyn Landing Strip\, weekly
DESCRIPTION:Landing Strip is an event to offer a welcoming hand to those AVP participants and facilitators who are going through the transition from prison back to society. \n\n\n\nClick here for flyer. \n\n\n\nLanding Strip es un evento para ofrecer una mano de bienvenida a los participantes y facilitadores de AVP que están pasando por la transición de la prisión a la sociedad. \n\n\n\nHaga clic aquí para ver el folleto.
URL:https://www.avpny.org/event/brooklyn-landing-strip-weekly/2029-03-22/
LOCATION:BK 5860\, 55 Hegeman Ave\, Brooklyn\, New York\, 11212\, United States
END:VEVENT
BEGIN:VEVENT
DTSTART;TZID=America/New_York:20290329T180000
DTEND;TZID=America/New_York:20290329T200000
DTSTAMP:20260422T182418
CREATED:20260225T170541Z
LAST-MODIFIED:20260225T170902Z
UID:10000440-1869501600-1869508800@www.avpny.org
SUMMARY:Brooklyn Landing Strip\, weekly
DESCRIPTION:Landing Strip is an event to offer a welcoming hand to those AVP participants and facilitators who are going through the transition from prison back to society. \n\n\n\nClick here for flyer. \n\n\n\nLanding Strip es un evento para ofrecer una mano de bienvenida a los participantes y facilitadores de AVP que están pasando por la transición de la prisión a la sociedad. \n\n\n\nHaga clic aquí para ver el folleto.
URL:https://www.avpny.org/event/brooklyn-landing-strip-weekly/2029-03-29/
LOCATION:BK 5860\, 55 Hegeman Ave\, Brooklyn\, New York\, 11212\, United States
END:VEVENT
BEGIN:VEVENT
DTSTART;TZID=America/New_York:20290405T180000
DTEND;TZID=America/New_York:20290405T200000
DTSTAMP:20260422T182418
CREATED:20260225T170541Z
LAST-MODIFIED:20260225T170902Z
UID:10000441-1870106400-1870113600@www.avpny.org
SUMMARY:Brooklyn Landing Strip\, weekly
DESCRIPTION:Landing Strip is an event to offer a welcoming hand to those AVP participants and facilitators who are going through the transition from prison back to society. \n\n\n\nClick here for flyer. \n\n\n\nLanding Strip es un evento para ofrecer una mano de bienvenida a los participantes y facilitadores de AVP que están pasando por la transición de la prisión a la sociedad. \n\n\n\nHaga clic aquí para ver el folleto.
URL:https://www.avpny.org/event/brooklyn-landing-strip-weekly/2029-04-05/
LOCATION:BK 5860\, 55 Hegeman Ave\, Brooklyn\, New York\, 11212\, United States
END:VEVENT
BEGIN:VEVENT
DTSTART;TZID=America/New_York:20290407T100000
DTEND;TZID=America/New_York:20290407T120000
DTSTAMP:20260422T182418
CREATED:20240530T144507Z
LAST-MODIFIED:20260225T165624Z
UID:10000124-1870250400-1870257600@www.avpny.org
SUMMARY:Rochester Landing Strip
DESCRIPTION:Landing Strip is an event to offer a welcoming hand to those AVP participants and facilitators who are going through the transition from prison back to society. \n\n\n\nClick here for flyer. \n\n\n\nLanding Strip es un evento para ofrecer una mano de bienvenida a los participantes y facilitadores de AVP que están pasando por la transición de la prisión a la sociedad. \n\n\n\nHaga clic aquí para ver el folleto
URL:https://www.avpny.org/event/rochester-landing-strip-2/2029-04-07/
LOCATION:Bookeater\, 836 S. Clinton Ave\, Rochester\, New York\, 14620\, United States
END:VEVENT
BEGIN:VEVENT
DTSTART;TZID=America/New_York:20290410T180000
DTEND;TZID=America/New_York:20290410T200000
DTSTAMP:20260422T182418
CREATED:20250417T190438Z
LAST-MODIFIED:20260225T170956Z
UID:10000192-1870538400-1870545600@www.avpny.org
SUMMARY:Brooklyn Landing Strip\, monthly
DESCRIPTION:Landing Strip is an event to offer a welcoming hand to those AVP participants and facilitators who are going through the transition from prison back to society. \n\n\n\nClick here for flyer. \n\n\n\nLanding Strip es un evento para ofrecer una mano de bienvenida a los participantes y facilitadores de AVP que están pasando por la transición de la prisión a la sociedad. \n\n\n\nHaga clic aquí para ver el folleto.
URL:https://www.avpny.org/event/brooklyn-landing-strip/2029-04-10/
LOCATION:Brooklyn Friends (Quaker) Meetinghouse\, 110 Schermerhorn St\, Brooklyn\, New York\, 11201
END:VEVENT
BEGIN:VEVENT
DTSTART;TZID=America/New_York:20290412T180000
DTEND;TZID=America/New_York:20290412T200000
DTSTAMP:20260422T182418
CREATED:20260225T170541Z
LAST-MODIFIED:20260225T170902Z
UID:10000442-1870711200-1870718400@www.avpny.org
SUMMARY:Brooklyn Landing Strip\, weekly
DESCRIPTION:Landing Strip is an event to offer a welcoming hand to those AVP participants and facilitators who are going through the transition from prison back to society. \n\n\n\nClick here for flyer. \n\n\n\nLanding Strip es un evento para ofrecer una mano de bienvenida a los participantes y facilitadores de AVP que están pasando por la transición de la prisión a la sociedad. \n\n\n\nHaga clic aquí para ver el folleto.
URL:https://www.avpny.org/event/brooklyn-landing-strip-weekly/2029-04-12/
LOCATION:BK 5860\, 55 Hegeman Ave\, Brooklyn\, New York\, 11212\, United States
END:VEVENT
BEGIN:VEVENT
DTSTART;TZID=America/New_York:20290419T170000
DTEND;TZID=America/New_York:20290419T190000
DTSTAMP:20260422T182418
CREATED:20240528T185401Z
LAST-MODIFIED:20260225T165251Z
UID:10000064-1871312400-1871319600@www.avpny.org
SUMMARY:Rochester Landing Strip
DESCRIPTION:Landing Strip is an event to offer a welcoming hand to those who are going through the transition back to society from prison. \n\n\n\nLanding Strip es un evento ofrecer la bienvenida a aquellos que están pasando por la transición de vuelta a la sociedad desde la carcel. \n\n\n\nClick here for a flyer in English and in Spanish \n\n\n\nHaga clic aquí para ver el folleto en inglés y en español
URL:https://www.avpny.org/event/rochester-landing-strip/2029-04-19/
LOCATION:M.K. Gandhi Institute for Nonviolence\, 929 S. Plymouth Ave\, Rochester\, New York\, United States
END:VEVENT
END:VCALENDAR