BEGIN:VCALENDAR
VERSION:2.0
PRODID:-//Alternatives to Violence Project New York - ECPv6.15.20//NONSGML v1.0//EN
CALSCALE:GREGORIAN
METHOD:PUBLISH
X-ORIGINAL-URL:https://www.avpny.org
X-WR-CALDESC:Events for Alternatives to Violence Project New York
REFRESH-INTERVAL;VALUE=DURATION:PT1H
X-Robots-Tag:noindex
X-PUBLISHED-TTL:PT1H
BEGIN:VTIMEZONE
TZID:America/New_York
BEGIN:DAYLIGHT
TZOFFSETFROM:-0500
TZOFFSETTO:-0400
TZNAME:EDT
DTSTART:20270314T070000
END:DAYLIGHT
BEGIN:STANDARD
TZOFFSETFROM:-0400
TZOFFSETTO:-0500
TZNAME:EST
DTSTART:20271107T060000
END:STANDARD
BEGIN:DAYLIGHT
TZOFFSETFROM:-0500
TZOFFSETTO:-0400
TZNAME:EDT
DTSTART:20280312T070000
END:DAYLIGHT
BEGIN:STANDARD
TZOFFSETFROM:-0400
TZOFFSETTO:-0500
TZNAME:EST
DTSTART:20281105T060000
END:STANDARD
BEGIN:DAYLIGHT
TZOFFSETFROM:-0500
TZOFFSETTO:-0400
TZNAME:EDT
DTSTART:20290311T070000
END:DAYLIGHT
BEGIN:STANDARD
TZOFFSETFROM:-0400
TZOFFSETTO:-0500
TZNAME:EST
DTSTART:20291104T060000
END:STANDARD
END:VTIMEZONE
BEGIN:VEVENT
DTSTART;TZID=America/New_York:20280208T180000
DTEND;TZID=America/New_York:20280208T200000
DTSTAMP:20260422T182251
CREATED:20250417T190438Z
LAST-MODIFIED:20260225T170956Z
UID:10000178-1833645600-1833652800@www.avpny.org
SUMMARY:Brooklyn Landing Strip\, monthly
DESCRIPTION:Landing Strip is an event to offer a welcoming hand to those AVP participants and facilitators who are going through the transition from prison back to society. \n\n\n\nClick here for flyer. \n\n\n\nLanding Strip es un evento para ofrecer una mano de bienvenida a los participantes y facilitadores de AVP que están pasando por la transición de la prisión a la sociedad. \n\n\n\nHaga clic aquí para ver el folleto.
URL:https://www.avpny.org/event/brooklyn-landing-strip/2028-02-08/
LOCATION:Brooklyn Friends (Quaker) Meetinghouse\, 110 Schermerhorn St\, Brooklyn\, New York\, 11201
END:VEVENT
BEGIN:VEVENT
DTSTART;TZID=America/New_York:20280210T180000
DTEND;TZID=America/New_York:20280210T200000
DTSTAMP:20260422T182251
CREATED:20260225T170541Z
LAST-MODIFIED:20260225T170902Z
UID:10000381-1833818400-1833825600@www.avpny.org
SUMMARY:Brooklyn Landing Strip\, weekly
DESCRIPTION:Landing Strip is an event to offer a welcoming hand to those AVP participants and facilitators who are going through the transition from prison back to society. \n\n\n\nClick here for flyer. \n\n\n\nLanding Strip es un evento para ofrecer una mano de bienvenida a los participantes y facilitadores de AVP que están pasando por la transición de la prisión a la sociedad. \n\n\n\nHaga clic aquí para ver el folleto.
URL:https://www.avpny.org/event/brooklyn-landing-strip-weekly/2028-02-10/
LOCATION:BK 5860\, 55 Hegeman Ave\, Brooklyn\, New York\, 11212\, United States
END:VEVENT
BEGIN:VEVENT
DTSTART;TZID=America/New_York:20280217T170000
DTEND;TZID=America/New_York:20280217T190000
DTSTAMP:20260422T182251
CREATED:20240528T185401Z
LAST-MODIFIED:20260225T165251Z
UID:10000050-1834419600-1834426800@www.avpny.org
SUMMARY:Rochester Landing Strip
DESCRIPTION:Landing Strip is an event to offer a welcoming hand to those who are going through the transition back to society from prison. \n\n\n\nLanding Strip es un evento ofrecer la bienvenida a aquellos que están pasando por la transición de vuelta a la sociedad desde la carcel. \n\n\n\nClick here for a flyer in English and in Spanish \n\n\n\nHaga clic aquí para ver el folleto en inglés y en español
URL:https://www.avpny.org/event/rochester-landing-strip/2028-02-17/
LOCATION:M.K. Gandhi Institute for Nonviolence\, 929 S. Plymouth Ave\, Rochester\, New York\, United States
END:VEVENT
BEGIN:VEVENT
DTSTART;TZID=America/New_York:20280217T180000
DTEND;TZID=America/New_York:20280217T200000
DTSTAMP:20260422T182251
CREATED:20260225T170541Z
LAST-MODIFIED:20260225T170902Z
UID:10000382-1834423200-1834430400@www.avpny.org
SUMMARY:Brooklyn Landing Strip\, weekly
DESCRIPTION:Landing Strip is an event to offer a welcoming hand to those AVP participants and facilitators who are going through the transition from prison back to society. \n\n\n\nClick here for flyer. \n\n\n\nLanding Strip es un evento para ofrecer una mano de bienvenida a los participantes y facilitadores de AVP que están pasando por la transición de la prisión a la sociedad. \n\n\n\nHaga clic aquí para ver el folleto.
URL:https://www.avpny.org/event/brooklyn-landing-strip-weekly/2028-02-17/
LOCATION:BK 5860\, 55 Hegeman Ave\, Brooklyn\, New York\, 11212\, United States
END:VEVENT
BEGIN:VEVENT
DTSTART;TZID=America/New_York:20280224T180000
DTEND;TZID=America/New_York:20280224T200000
DTSTAMP:20260422T182251
CREATED:20260225T170541Z
LAST-MODIFIED:20260225T170902Z
UID:10000383-1835028000-1835035200@www.avpny.org
SUMMARY:Brooklyn Landing Strip\, weekly
DESCRIPTION:Landing Strip is an event to offer a welcoming hand to those AVP participants and facilitators who are going through the transition from prison back to society. \n\n\n\nClick here for flyer. \n\n\n\nLanding Strip es un evento para ofrecer una mano de bienvenida a los participantes y facilitadores de AVP que están pasando por la transición de la prisión a la sociedad. \n\n\n\nHaga clic aquí para ver el folleto.
URL:https://www.avpny.org/event/brooklyn-landing-strip-weekly/2028-02-24/
LOCATION:BK 5860\, 55 Hegeman Ave\, Brooklyn\, New York\, 11212\, United States
END:VEVENT
BEGIN:VEVENT
DTSTART;TZID=America/New_York:20280302T180000
DTEND;TZID=America/New_York:20280302T200000
DTSTAMP:20260422T182251
CREATED:20260225T170541Z
LAST-MODIFIED:20260225T170902Z
UID:10000384-1835632800-1835640000@www.avpny.org
SUMMARY:Brooklyn Landing Strip\, weekly
DESCRIPTION:Landing Strip is an event to offer a welcoming hand to those AVP participants and facilitators who are going through the transition from prison back to society. \n\n\n\nClick here for flyer. \n\n\n\nLanding Strip es un evento para ofrecer una mano de bienvenida a los participantes y facilitadores de AVP que están pasando por la transición de la prisión a la sociedad. \n\n\n\nHaga clic aquí para ver el folleto.
URL:https://www.avpny.org/event/brooklyn-landing-strip-weekly/2028-03-02/
LOCATION:BK 5860\, 55 Hegeman Ave\, Brooklyn\, New York\, 11212\, United States
END:VEVENT
BEGIN:VEVENT
DTSTART;TZID=America/New_York:20280304T100000
DTEND;TZID=America/New_York:20280304T120000
DTSTAMP:20260422T182251
CREATED:20240530T144507Z
LAST-MODIFIED:20260225T165624Z
UID:10000111-1835776800-1835784000@www.avpny.org
SUMMARY:Rochester Landing Strip
DESCRIPTION:Landing Strip is an event to offer a welcoming hand to those AVP participants and facilitators who are going through the transition from prison back to society. \n\n\n\nClick here for flyer. \n\n\n\nLanding Strip es un evento para ofrecer una mano de bienvenida a los participantes y facilitadores de AVP que están pasando por la transición de la prisión a la sociedad. \n\n\n\nHaga clic aquí para ver el folleto
URL:https://www.avpny.org/event/rochester-landing-strip-2/2028-03-04/
LOCATION:Bookeater\, 836 S. Clinton Ave\, Rochester\, New York\, 14620\, United States
END:VEVENT
BEGIN:VEVENT
DTSTART;TZID=America/New_York:20280309T180000
DTEND;TZID=America/New_York:20280309T200000
DTSTAMP:20260422T182251
CREATED:20260225T170541Z
LAST-MODIFIED:20260225T170902Z
UID:10000385-1836237600-1836244800@www.avpny.org
SUMMARY:Brooklyn Landing Strip\, weekly
DESCRIPTION:Landing Strip is an event to offer a welcoming hand to those AVP participants and facilitators who are going through the transition from prison back to society. \n\n\n\nClick here for flyer. \n\n\n\nLanding Strip es un evento para ofrecer una mano de bienvenida a los participantes y facilitadores de AVP que están pasando por la transición de la prisión a la sociedad. \n\n\n\nHaga clic aquí para ver el folleto.
URL:https://www.avpny.org/event/brooklyn-landing-strip-weekly/2028-03-09/
LOCATION:BK 5860\, 55 Hegeman Ave\, Brooklyn\, New York\, 11212\, United States
END:VEVENT
BEGIN:VEVENT
DTSTART;TZID=America/New_York:20280314T180000
DTEND;TZID=America/New_York:20280314T200000
DTSTAMP:20260422T182251
CREATED:20250417T190438Z
LAST-MODIFIED:20260225T170956Z
UID:10000179-1836669600-1836676800@www.avpny.org
SUMMARY:Brooklyn Landing Strip\, monthly
DESCRIPTION:Landing Strip is an event to offer a welcoming hand to those AVP participants and facilitators who are going through the transition from prison back to society. \n\n\n\nClick here for flyer. \n\n\n\nLanding Strip es un evento para ofrecer una mano de bienvenida a los participantes y facilitadores de AVP que están pasando por la transición de la prisión a la sociedad. \n\n\n\nHaga clic aquí para ver el folleto.
URL:https://www.avpny.org/event/brooklyn-landing-strip/2028-03-14/
LOCATION:Brooklyn Friends (Quaker) Meetinghouse\, 110 Schermerhorn St\, Brooklyn\, New York\, 11201
END:VEVENT
BEGIN:VEVENT
DTSTART;TZID=America/New_York:20280316T170000
DTEND;TZID=America/New_York:20280316T190000
DTSTAMP:20260422T182251
CREATED:20240528T185401Z
LAST-MODIFIED:20260225T165251Z
UID:10000051-1836838800-1836846000@www.avpny.org
SUMMARY:Rochester Landing Strip
DESCRIPTION:Landing Strip is an event to offer a welcoming hand to those who are going through the transition back to society from prison. \n\n\n\nLanding Strip es un evento ofrecer la bienvenida a aquellos que están pasando por la transición de vuelta a la sociedad desde la carcel. \n\n\n\nClick here for a flyer in English and in Spanish \n\n\n\nHaga clic aquí para ver el folleto en inglés y en español
URL:https://www.avpny.org/event/rochester-landing-strip/2028-03-16/
LOCATION:M.K. Gandhi Institute for Nonviolence\, 929 S. Plymouth Ave\, Rochester\, New York\, United States
END:VEVENT
BEGIN:VEVENT
DTSTART;TZID=America/New_York:20280316T180000
DTEND;TZID=America/New_York:20280316T200000
DTSTAMP:20260422T182251
CREATED:20260225T170541Z
LAST-MODIFIED:20260225T170902Z
UID:10000386-1836842400-1836849600@www.avpny.org
SUMMARY:Brooklyn Landing Strip\, weekly
DESCRIPTION:Landing Strip is an event to offer a welcoming hand to those AVP participants and facilitators who are going through the transition from prison back to society. \n\n\n\nClick here for flyer. \n\n\n\nLanding Strip es un evento para ofrecer una mano de bienvenida a los participantes y facilitadores de AVP que están pasando por la transición de la prisión a la sociedad. \n\n\n\nHaga clic aquí para ver el folleto.
URL:https://www.avpny.org/event/brooklyn-landing-strip-weekly/2028-03-16/
LOCATION:BK 5860\, 55 Hegeman Ave\, Brooklyn\, New York\, 11212\, United States
END:VEVENT
BEGIN:VEVENT
DTSTART;TZID=America/New_York:20280323T180000
DTEND;TZID=America/New_York:20280323T200000
DTSTAMP:20260422T182251
CREATED:20260225T170541Z
LAST-MODIFIED:20260225T170902Z
UID:10000387-1837447200-1837454400@www.avpny.org
SUMMARY:Brooklyn Landing Strip\, weekly
DESCRIPTION:Landing Strip is an event to offer a welcoming hand to those AVP participants and facilitators who are going through the transition from prison back to society. \n\n\n\nClick here for flyer. \n\n\n\nLanding Strip es un evento para ofrecer una mano de bienvenida a los participantes y facilitadores de AVP que están pasando por la transición de la prisión a la sociedad. \n\n\n\nHaga clic aquí para ver el folleto.
URL:https://www.avpny.org/event/brooklyn-landing-strip-weekly/2028-03-23/
LOCATION:BK 5860\, 55 Hegeman Ave\, Brooklyn\, New York\, 11212\, United States
END:VEVENT
BEGIN:VEVENT
DTSTART;TZID=America/New_York:20280330T180000
DTEND;TZID=America/New_York:20280330T200000
DTSTAMP:20260422T182251
CREATED:20260225T170541Z
LAST-MODIFIED:20260225T170902Z
UID:10000388-1838052000-1838059200@www.avpny.org
SUMMARY:Brooklyn Landing Strip\, weekly
DESCRIPTION:Landing Strip is an event to offer a welcoming hand to those AVP participants and facilitators who are going through the transition from prison back to society. \n\n\n\nClick here for flyer. \n\n\n\nLanding Strip es un evento para ofrecer una mano de bienvenida a los participantes y facilitadores de AVP que están pasando por la transición de la prisión a la sociedad. \n\n\n\nHaga clic aquí para ver el folleto.
URL:https://www.avpny.org/event/brooklyn-landing-strip-weekly/2028-03-30/
LOCATION:BK 5860\, 55 Hegeman Ave\, Brooklyn\, New York\, 11212\, United States
END:VEVENT
BEGIN:VEVENT
DTSTART;TZID=America/New_York:20280401T100000
DTEND;TZID=America/New_York:20280401T120000
DTSTAMP:20260422T182251
CREATED:20240530T144507Z
LAST-MODIFIED:20260225T165624Z
UID:10000112-1838196000-1838203200@www.avpny.org
SUMMARY:Rochester Landing Strip
DESCRIPTION:Landing Strip is an event to offer a welcoming hand to those AVP participants and facilitators who are going through the transition from prison back to society. \n\n\n\nClick here for flyer. \n\n\n\nLanding Strip es un evento para ofrecer una mano de bienvenida a los participantes y facilitadores de AVP que están pasando por la transición de la prisión a la sociedad. \n\n\n\nHaga clic aquí para ver el folleto
URL:https://www.avpny.org/event/rochester-landing-strip-2/2028-04-01/
LOCATION:Bookeater\, 836 S. Clinton Ave\, Rochester\, New York\, 14620\, United States
END:VEVENT
BEGIN:VEVENT
DTSTART;TZID=America/New_York:20280406T180000
DTEND;TZID=America/New_York:20280406T200000
DTSTAMP:20260422T182251
CREATED:20260225T170541Z
LAST-MODIFIED:20260225T170902Z
UID:10000389-1838656800-1838664000@www.avpny.org
SUMMARY:Brooklyn Landing Strip\, weekly
DESCRIPTION:Landing Strip is an event to offer a welcoming hand to those AVP participants and facilitators who are going through the transition from prison back to society. \n\n\n\nClick here for flyer. \n\n\n\nLanding Strip es un evento para ofrecer una mano de bienvenida a los participantes y facilitadores de AVP que están pasando por la transición de la prisión a la sociedad. \n\n\n\nHaga clic aquí para ver el folleto.
URL:https://www.avpny.org/event/brooklyn-landing-strip-weekly/2028-04-06/
LOCATION:BK 5860\, 55 Hegeman Ave\, Brooklyn\, New York\, 11212\, United States
END:VEVENT
BEGIN:VEVENT
DTSTART;TZID=America/New_York:20280411T180000
DTEND;TZID=America/New_York:20280411T200000
DTSTAMP:20260422T182251
CREATED:20250417T190438Z
LAST-MODIFIED:20260225T170956Z
UID:10000180-1839088800-1839096000@www.avpny.org
SUMMARY:Brooklyn Landing Strip\, monthly
DESCRIPTION:Landing Strip is an event to offer a welcoming hand to those AVP participants and facilitators who are going through the transition from prison back to society. \n\n\n\nClick here for flyer. \n\n\n\nLanding Strip es un evento para ofrecer una mano de bienvenida a los participantes y facilitadores de AVP que están pasando por la transición de la prisión a la sociedad. \n\n\n\nHaga clic aquí para ver el folleto.
URL:https://www.avpny.org/event/brooklyn-landing-strip/2028-04-11/
LOCATION:Brooklyn Friends (Quaker) Meetinghouse\, 110 Schermerhorn St\, Brooklyn\, New York\, 11201
END:VEVENT
BEGIN:VEVENT
DTSTART;TZID=America/New_York:20280413T180000
DTEND;TZID=America/New_York:20280413T200000
DTSTAMP:20260422T182251
CREATED:20260225T170541Z
LAST-MODIFIED:20260225T170902Z
UID:10000390-1839261600-1839268800@www.avpny.org
SUMMARY:Brooklyn Landing Strip\, weekly
DESCRIPTION:Landing Strip is an event to offer a welcoming hand to those AVP participants and facilitators who are going through the transition from prison back to society. \n\n\n\nClick here for flyer. \n\n\n\nLanding Strip es un evento para ofrecer una mano de bienvenida a los participantes y facilitadores de AVP que están pasando por la transición de la prisión a la sociedad. \n\n\n\nHaga clic aquí para ver el folleto.
URL:https://www.avpny.org/event/brooklyn-landing-strip-weekly/2028-04-13/
LOCATION:BK 5860\, 55 Hegeman Ave\, Brooklyn\, New York\, 11212\, United States
END:VEVENT
BEGIN:VEVENT
DTSTART;TZID=America/New_York:20280420T170000
DTEND;TZID=America/New_York:20280420T190000
DTSTAMP:20260422T182251
CREATED:20240528T185401Z
LAST-MODIFIED:20260225T165251Z
UID:10000052-1839862800-1839870000@www.avpny.org
SUMMARY:Rochester Landing Strip
DESCRIPTION:Landing Strip is an event to offer a welcoming hand to those who are going through the transition back to society from prison. \n\n\n\nLanding Strip es un evento ofrecer la bienvenida a aquellos que están pasando por la transición de vuelta a la sociedad desde la carcel. \n\n\n\nClick here for a flyer in English and in Spanish \n\n\n\nHaga clic aquí para ver el folleto en inglés y en español
URL:https://www.avpny.org/event/rochester-landing-strip/2028-04-20/
LOCATION:M.K. Gandhi Institute for Nonviolence\, 929 S. Plymouth Ave\, Rochester\, New York\, United States
END:VEVENT
BEGIN:VEVENT
DTSTART;TZID=America/New_York:20280420T180000
DTEND;TZID=America/New_York:20280420T200000
DTSTAMP:20260422T182251
CREATED:20260225T170541Z
LAST-MODIFIED:20260225T170902Z
UID:10000391-1839866400-1839873600@www.avpny.org
SUMMARY:Brooklyn Landing Strip\, weekly
DESCRIPTION:Landing Strip is an event to offer a welcoming hand to those AVP participants and facilitators who are going through the transition from prison back to society. \n\n\n\nClick here for flyer. \n\n\n\nLanding Strip es un evento para ofrecer una mano de bienvenida a los participantes y facilitadores de AVP que están pasando por la transición de la prisión a la sociedad. \n\n\n\nHaga clic aquí para ver el folleto.
URL:https://www.avpny.org/event/brooklyn-landing-strip-weekly/2028-04-20/
LOCATION:BK 5860\, 55 Hegeman Ave\, Brooklyn\, New York\, 11212\, United States
END:VEVENT
BEGIN:VEVENT
DTSTART;TZID=America/New_York:20280427T180000
DTEND;TZID=America/New_York:20280427T200000
DTSTAMP:20260422T182251
CREATED:20260225T170541Z
LAST-MODIFIED:20260225T170902Z
UID:10000392-1840471200-1840478400@www.avpny.org
SUMMARY:Brooklyn Landing Strip\, weekly
DESCRIPTION:Landing Strip is an event to offer a welcoming hand to those AVP participants and facilitators who are going through the transition from prison back to society. \n\n\n\nClick here for flyer. \n\n\n\nLanding Strip es un evento para ofrecer una mano de bienvenida a los participantes y facilitadores de AVP que están pasando por la transición de la prisión a la sociedad. \n\n\n\nHaga clic aquí para ver el folleto.
URL:https://www.avpny.org/event/brooklyn-landing-strip-weekly/2028-04-27/
LOCATION:BK 5860\, 55 Hegeman Ave\, Brooklyn\, New York\, 11212\, United States
END:VEVENT
BEGIN:VEVENT
DTSTART;TZID=America/New_York:20280504T180000
DTEND;TZID=America/New_York:20280504T200000
DTSTAMP:20260422T182251
CREATED:20260225T170541Z
LAST-MODIFIED:20260225T170902Z
UID:10000393-1841076000-1841083200@www.avpny.org
SUMMARY:Brooklyn Landing Strip\, weekly
DESCRIPTION:Landing Strip is an event to offer a welcoming hand to those AVP participants and facilitators who are going through the transition from prison back to society. \n\n\n\nClick here for flyer. \n\n\n\nLanding Strip es un evento para ofrecer una mano de bienvenida a los participantes y facilitadores de AVP que están pasando por la transición de la prisión a la sociedad. \n\n\n\nHaga clic aquí para ver el folleto.
URL:https://www.avpny.org/event/brooklyn-landing-strip-weekly/2028-05-04/
LOCATION:BK 5860\, 55 Hegeman Ave\, Brooklyn\, New York\, 11212\, United States
END:VEVENT
BEGIN:VEVENT
DTSTART;TZID=America/New_York:20280506T100000
DTEND;TZID=America/New_York:20280506T120000
DTSTAMP:20260422T182251
CREATED:20240530T144507Z
LAST-MODIFIED:20260225T165624Z
UID:10000113-1841220000-1841227200@www.avpny.org
SUMMARY:Rochester Landing Strip
DESCRIPTION:Landing Strip is an event to offer a welcoming hand to those AVP participants and facilitators who are going through the transition from prison back to society. \n\n\n\nClick here for flyer. \n\n\n\nLanding Strip es un evento para ofrecer una mano de bienvenida a los participantes y facilitadores de AVP que están pasando por la transición de la prisión a la sociedad. \n\n\n\nHaga clic aquí para ver el folleto
URL:https://www.avpny.org/event/rochester-landing-strip-2/2028-05-06/
LOCATION:Bookeater\, 836 S. Clinton Ave\, Rochester\, New York\, 14620\, United States
END:VEVENT
BEGIN:VEVENT
DTSTART;TZID=America/New_York:20280509T180000
DTEND;TZID=America/New_York:20280509T200000
DTSTAMP:20260422T182251
CREATED:20250417T190438Z
LAST-MODIFIED:20260225T170956Z
UID:10000181-1841508000-1841515200@www.avpny.org
SUMMARY:Brooklyn Landing Strip\, monthly
DESCRIPTION:Landing Strip is an event to offer a welcoming hand to those AVP participants and facilitators who are going through the transition from prison back to society. \n\n\n\nClick here for flyer. \n\n\n\nLanding Strip es un evento para ofrecer una mano de bienvenida a los participantes y facilitadores de AVP que están pasando por la transición de la prisión a la sociedad. \n\n\n\nHaga clic aquí para ver el folleto.
URL:https://www.avpny.org/event/brooklyn-landing-strip/2028-05-09/
LOCATION:Brooklyn Friends (Quaker) Meetinghouse\, 110 Schermerhorn St\, Brooklyn\, New York\, 11201
END:VEVENT
BEGIN:VEVENT
DTSTART;TZID=America/New_York:20280511T180000
DTEND;TZID=America/New_York:20280511T200000
DTSTAMP:20260422T182251
CREATED:20260225T170541Z
LAST-MODIFIED:20260225T170902Z
UID:10000394-1841680800-1841688000@www.avpny.org
SUMMARY:Brooklyn Landing Strip\, weekly
DESCRIPTION:Landing Strip is an event to offer a welcoming hand to those AVP participants and facilitators who are going through the transition from prison back to society. \n\n\n\nClick here for flyer. \n\n\n\nLanding Strip es un evento para ofrecer una mano de bienvenida a los participantes y facilitadores de AVP que están pasando por la transición de la prisión a la sociedad. \n\n\n\nHaga clic aquí para ver el folleto.
URL:https://www.avpny.org/event/brooklyn-landing-strip-weekly/2028-05-11/
LOCATION:BK 5860\, 55 Hegeman Ave\, Brooklyn\, New York\, 11212\, United States
END:VEVENT
BEGIN:VEVENT
DTSTART;TZID=America/New_York:20280518T170000
DTEND;TZID=America/New_York:20280518T190000
DTSTAMP:20260422T182251
CREATED:20240528T185401Z
LAST-MODIFIED:20260225T165251Z
UID:10000053-1842282000-1842289200@www.avpny.org
SUMMARY:Rochester Landing Strip
DESCRIPTION:Landing Strip is an event to offer a welcoming hand to those who are going through the transition back to society from prison. \n\n\n\nLanding Strip es un evento ofrecer la bienvenida a aquellos que están pasando por la transición de vuelta a la sociedad desde la carcel. \n\n\n\nClick here for a flyer in English and in Spanish \n\n\n\nHaga clic aquí para ver el folleto en inglés y en español
URL:https://www.avpny.org/event/rochester-landing-strip/2028-05-18/
LOCATION:M.K. Gandhi Institute for Nonviolence\, 929 S. Plymouth Ave\, Rochester\, New York\, United States
END:VEVENT
BEGIN:VEVENT
DTSTART;TZID=America/New_York:20280518T180000
DTEND;TZID=America/New_York:20280518T200000
DTSTAMP:20260422T182251
CREATED:20260225T170541Z
LAST-MODIFIED:20260225T170902Z
UID:10000395-1842285600-1842292800@www.avpny.org
SUMMARY:Brooklyn Landing Strip\, weekly
DESCRIPTION:Landing Strip is an event to offer a welcoming hand to those AVP participants and facilitators who are going through the transition from prison back to society. \n\n\n\nClick here for flyer. \n\n\n\nLanding Strip es un evento para ofrecer una mano de bienvenida a los participantes y facilitadores de AVP que están pasando por la transición de la prisión a la sociedad. \n\n\n\nHaga clic aquí para ver el folleto.
URL:https://www.avpny.org/event/brooklyn-landing-strip-weekly/2028-05-18/
LOCATION:BK 5860\, 55 Hegeman Ave\, Brooklyn\, New York\, 11212\, United States
END:VEVENT
BEGIN:VEVENT
DTSTART;TZID=America/New_York:20280525T180000
DTEND;TZID=America/New_York:20280525T200000
DTSTAMP:20260422T182251
CREATED:20260225T170541Z
LAST-MODIFIED:20260225T170902Z
UID:10000396-1842890400-1842897600@www.avpny.org
SUMMARY:Brooklyn Landing Strip\, weekly
DESCRIPTION:Landing Strip is an event to offer a welcoming hand to those AVP participants and facilitators who are going through the transition from prison back to society. \n\n\n\nClick here for flyer. \n\n\n\nLanding Strip es un evento para ofrecer una mano de bienvenida a los participantes y facilitadores de AVP que están pasando por la transición de la prisión a la sociedad. \n\n\n\nHaga clic aquí para ver el folleto.
URL:https://www.avpny.org/event/brooklyn-landing-strip-weekly/2028-05-25/
LOCATION:BK 5860\, 55 Hegeman Ave\, Brooklyn\, New York\, 11212\, United States
END:VEVENT
BEGIN:VEVENT
DTSTART;TZID=America/New_York:20280601T180000
DTEND;TZID=America/New_York:20280601T200000
DTSTAMP:20260422T182251
CREATED:20260225T170541Z
LAST-MODIFIED:20260225T170902Z
UID:10000397-1843495200-1843502400@www.avpny.org
SUMMARY:Brooklyn Landing Strip\, weekly
DESCRIPTION:Landing Strip is an event to offer a welcoming hand to those AVP participants and facilitators who are going through the transition from prison back to society. \n\n\n\nClick here for flyer. \n\n\n\nLanding Strip es un evento para ofrecer una mano de bienvenida a los participantes y facilitadores de AVP que están pasando por la transición de la prisión a la sociedad. \n\n\n\nHaga clic aquí para ver el folleto.
URL:https://www.avpny.org/event/brooklyn-landing-strip-weekly/2028-06-01/
LOCATION:BK 5860\, 55 Hegeman Ave\, Brooklyn\, New York\, 11212\, United States
END:VEVENT
BEGIN:VEVENT
DTSTART;TZID=America/New_York:20280603T100000
DTEND;TZID=America/New_York:20280603T120000
DTSTAMP:20260422T182251
CREATED:20240530T144507Z
LAST-MODIFIED:20260225T165624Z
UID:10000114-1843639200-1843646400@www.avpny.org
SUMMARY:Rochester Landing Strip
DESCRIPTION:Landing Strip is an event to offer a welcoming hand to those AVP participants and facilitators who are going through the transition from prison back to society. \n\n\n\nClick here for flyer. \n\n\n\nLanding Strip es un evento para ofrecer una mano de bienvenida a los participantes y facilitadores de AVP que están pasando por la transición de la prisión a la sociedad. \n\n\n\nHaga clic aquí para ver el folleto
URL:https://www.avpny.org/event/rochester-landing-strip-2/2028-06-03/
LOCATION:Bookeater\, 836 S. Clinton Ave\, Rochester\, New York\, 14620\, United States
END:VEVENT
BEGIN:VEVENT
DTSTART;TZID=America/New_York:20280608T180000
DTEND;TZID=America/New_York:20280608T200000
DTSTAMP:20260422T182251
CREATED:20260225T170541Z
LAST-MODIFIED:20260225T170902Z
UID:10000398-1844100000-1844107200@www.avpny.org
SUMMARY:Brooklyn Landing Strip\, weekly
DESCRIPTION:Landing Strip is an event to offer a welcoming hand to those AVP participants and facilitators who are going through the transition from prison back to society. \n\n\n\nClick here for flyer. \n\n\n\nLanding Strip es un evento para ofrecer una mano de bienvenida a los participantes y facilitadores de AVP que están pasando por la transición de la prisión a la sociedad. \n\n\n\nHaga clic aquí para ver el folleto.
URL:https://www.avpny.org/event/brooklyn-landing-strip-weekly/2028-06-08/
LOCATION:BK 5860\, 55 Hegeman Ave\, Brooklyn\, New York\, 11212\, United States
END:VEVENT
END:VCALENDAR